BEGIN:VCALENDAR
VERSION:2.0
PRODID:icalendar-ruby
CALSCALE:GREGORIAN
BEGIN:VEVENT
DTSTAMP:20260422T102153Z
UID:kh8Cbg
DTSTART;VALUE=DATE:20200322
DTEND;VALUE=DATE:20200323
CLASS:PUBLIC
CREATED:20200309T225536
DESCRIPTION: An expedition into Stirchley and Bournville’s darkest recess
 es. \n\n On Sunday 22nd March\, as the New Moon begins\, we shall reclaim 
 the night by walking out of the street lights and into the darkest corners
  of Birmingham B30.  \n\n By day our route is green and pleasant\, travers
 ing parks\, canal paths and verdant walkways. By night we shall discover h
 ow different it all looks and feels when the path is not lit\, the trees l
 oom large and all colour disappears? Will there be fear or excitement\, a 
 feeling of power or of vulnerability?  \n\n This 90 minute night walk offe
 rs the chance to venture into the unlit borderlands of Bournville\, Stirch
 ley and Lifford wards in the safety of a group. To blend into the darkness
  and embrace the power of our invisibility. To explore our inner fears as 
 well as a sense of awe and wonder. By walking together\, we aim to reclaim
  the everyday urban spaces that become off-limits after dark.  \n\n There 
 will be short breaks along the way to contemplate the darkness or just to 
 blend into the shadows\, become invisible and think. \n\n Spaces are limit
 ed so booking is essential. More details are below.  \n
LAST-MODIFIED:20200317T151945
LOCATION:Stirchley / Bournville
ORGANIZER:mailto:fiona@fionacullinan.com
SUMMARY:Dark Moon Walking 2
URL;VALUE=URI:https://ti.to/walkspace/dark-moon-walking-2
URL;VALUE=URI:https://ti.to/walkspace/dark-moon-walking-2
END:VEVENT
END:VCALENDAR
