BEGIN:VCALENDAR
VERSION:2.0
PRODID:icalendar-ruby
CALSCALE:GREGORIAN
BEGIN:VEVENT
DTSTAMP:20260422T100913Z
UID:8PV9gg
DTSTART;VALUE=DATE:20160728
DTEND;VALUE=DATE:20160729
CLASS:PUBLIC
CREATED:20160704T090604
DESCRIPTION: NOTE: Unfortunately we have had to cancel this event. Thanks t
 o all those who signed up - your interest is much appreciated. \n\n The W3
 C TAG (Technical Architecture Group) is in charge of coordinating cross-te
 chnology architecture and the principles of web architecture at the World 
 Wide Web Consortium - in other words\, it’s kind of a technical steering
  group for web standards. We’re having a face to face meeting in July in
  Stockholm (hosted by Google). We'll be discussing variety of topics relat
 ed to emerging web APIs and standards including: \n\n \n Incubation of new
  web features through the Web Incubator Community Group \n Extensibility o
 f styling \n Extensibility of accessibility \n Security and privacy includ
 ing Secure Contexts \n \n\n As part of our time here we'll be holding a Q&
 amp\;A panel session (followed by drinks) on the evening of July 28th wher
 e we can let you know what we're up to and get feedback from the web devel
 oper community about your priorities. \n\n Come along find out what we're 
 working on\, get a heads-up of new Web standards and technologies in devel
 opment and air your web tech pet peeves. \n
LAST-MODIFIED:20231212T102856
LOCATION:Stockholm\, Sweden
ORGANIZER:mailto:dan@torgo.com
SUMMARY:Meet the TAG – Stockholm Edition [CANCELED]
URL;VALUE=URI:https://ti.to/w3c-tag/meet-the-tag-stockholm
URL;VALUE=URI:https://ti.to/w3c-tag/meet-the-tag-stockholm
END:VEVENT
END:VCALENDAR
