BEGIN:VCALENDAR
VERSION:2.0
PRODID:icalendar-ruby
CALSCALE:GREGORIAN
BEGIN:VEVENT
DTSTAMP:20260422T090204Z
UID:sEp78w
DTSTART;VALUE=DATE:20190523
DTEND;VALUE=DATE:20190524
CLASS:PUBLIC
CREATED:20190507T191323
DESCRIPTION: Thursday 8:30 PM \n\n Congratulations! You're Invited to an In
 timate Jazz Concert\, Thursday May 23rd in Long Beach. \n\n An Intimate Ja
 zz Concert at Harvelle's \n\n Presented by: INVITATION ONLY \n\n "A top dr
 awer trumpeter who also sings like an angel obscured by a storm cloud" --J
 azzTimes \n\n "A post-millennial Chet Baker" --The New York Times \n\n  \n
 \n [youtube:leEIw0VLheE] \n\n Join the Guest List for Free Tickets -- or -
 - Purchase VIP Tickets for Guaranteed Seats to see MATT VON RODERICK! \n
LAST-MODIFIED:20210422T083607
LOCATION:Long Beach\, CA
ORGANIZER:MAILTO:
SUMMARY:Award-winning Jazz Artist MATT VON RODERICK
URL;VALUE=URI:https://ti.to/vonroderick/by-invitation-only-harvellesLongBea
 ch-may-23-830pm
URL;VALUE=URI:https://ti.to/vonroderick/by-invitation-only-harvellesLongBea
 ch-may-23-830pm
END:VEVENT
END:VCALENDAR
