BEGIN:VCALENDAR
VERSION:2.0
PRODID:icalendar-ruby
CALSCALE:GREGORIAN
BEGIN:VTIMEZONE
TZID:Australia/Sydney
BEGIN:DAYLIGHT
DTSTART:20241006T030000
TZOFFSETFROM:+1000
TZOFFSETTO:+1100
RRULE:FREQ=YEARLY;BYDAY=1SU;BYMONTH=10
TZNAME:AEDT
END:DAYLIGHT
BEGIN:STANDARD
DTSTART:20240407T020000
TZOFFSETFROM:+1100
TZOFFSETTO:+1000
RRULE:FREQ=YEARLY;BYDAY=1SU;BYMONTH=4
TZNAME:AEST
END:STANDARD
END:VTIMEZONE
BEGIN:VEVENT
DTSTAMP:20260426T032606Z
UID:9A4ZoA
DTSTART;TZID=Australia/Sydney:20240908T160000
DTEND;TZID=Australia/Sydney:20240908T173000
CLASS:PUBLIC
CREATED:20240819T162246
DESCRIPTION: We all need a place to explore life's deepest questions. \n\n 
 Alpha is a welcoming space to explore faith\, life and Jesus.\nThere's gre
 at food\, a short video and time for conversation and discussion. \n\n Chi
 ldcare provided (free). \n\n Come along and see if Alpha is for you! \n
LAST-MODIFIED:20240820T093345
LOCATION:Hornsby NSW
ORGANIZER:mailto:sarah@vivachurch.org.au
SUMMARY:Alpha in Hornsby
URL;VALUE=URI:https://ti.to/viva-vineyard-church/alpha
URL;VALUE=URI:https://ti.to/viva-vineyard-church/alpha
END:VEVENT
END:VCALENDAR
