BEGIN:VCALENDAR
VERSION:2.0
PRODID:icalendar-ruby
CALSCALE:GREGORIAN
BEGIN:VEVENT
DTSTAMP:20260425T161244Z
UID:OccR9w
DTSTART;VALUE=DATE:20260206
DTEND;VALUE=DATE:20260208
CLASS:PUBLIC
CREATED:20250717T151315
DESCRIPTION: Join us for our Regional Worship Gathering in 2026! Everyone i
 s welcome! This is our Gathering for Vineyard people from across London &a
 mp\; the South East (focussed seminar topics for worship team members (ban
 ds\, sound\, media\, tech). \n\n Anyone who loves to worship is welcome!! 
 \n\n  \n\n This year we are delighted to have Joshua Miller from Vineyard 
 USA as our guest speaker/worship leader (see additional info below) \n\n F
 riday\n6.30pm Registration &amp\; Refreshments\n7.30pm 1st Session \n\n Sa
 turday\n9am Registration &amp\; Refreshments\n9.30am 1st Session\nLast ses
 sion ends at 9pm\nFull programme here \n\n Youth aged 16+ would be welcome
  to attend this event\, provided they are accompanied by a parent/guardian
 /“parent in loco” who has purchased an adult ticket. If you have any q
 uestions about bringing youth to this event\, please reach out.\n \n
LAST-MODIFIED:20260415T130602
LOCATION:Riverside Vineyard 
ORGANIZER:mailto:lseworshipgathering@riversidevineyard.com
SUMMARY:Regional Worship Gathering: London & South East
URL;VALUE=URI:https://ti.to/vcuki/regional-worship-gathering-london-south-e
 ast
URL;VALUE=URI:https://ti.to/vcuki/regional-worship-gathering-london-south-e
 ast
END:VEVENT
END:VCALENDAR
