BEGIN:VCALENDAR
VERSION:2.0
PRODID:icalendar-ruby
CALSCALE:GREGORIAN
BEGIN:VEVENT
DTSTAMP:20260421T130604Z
UID:NpAOsQ
DTSTART;VALUE=DATE:20160524
DTEND;VALUE=DATE:20160525
CLASS:PUBLIC
CREATED:20160519T203748
DESCRIPTION: Learn how to solder silver in an easy way at home. Learn what 
 tools to use\, how to use them and where to get them. It s free of charge 
 to attend but for a small free you can try soldering hands on. Great for m
 aking jewellery. \n
LAST-MODIFIED:20160519T204652
LOCATION:
ORGANIZER:mailto:info@vaasa.hacklab.fi
SUMMARY:Soldering Silver
URL;VALUE=URI:https://ti.to/vaasahacklab/soldering-silver
URL;VALUE=URI:https://ti.to/vaasahacklab/soldering-silver
END:VEVENT
END:VCALENDAR
