BEGIN:VCALENDAR
VERSION:2.0
PRODID:icalendar-ruby
CALSCALE:GREGORIAN
BEGIN:VEVENT
DTSTAMP:20260421T130847Z
UID:krJKnA
DTSTART;VALUE=DATE:20160510
DTEND;VALUE=DATE:20160511
CLASS:PUBLIC
CREATED:20160502T221128
DESCRIPTION: Google Analytics Workshop for beginners \n
LAST-MODIFIED:20231212T102856
LOCATION:Vaasa\, Finland
ORGANIZER:mailto:info@vaasa.hacklab.fi
SUMMARY:Google Analytics
URL;VALUE=URI:https://ti.to/vaasahacklab/google-analytics
URL;VALUE=URI:https://ti.to/vaasahacklab/google-analytics
END:VEVENT
END:VCALENDAR
