BEGIN:VCALENDAR
VERSION:2.0
PRODID:icalendar-ruby
CALSCALE:GREGORIAN
BEGIN:VEVENT
DTSTAMP:20260420T053139Z
UID:X8cTTg
DTSTART;VALUE=DATE:20170722
DTEND;VALUE=DATE:20170724
CLASS:PUBLIC
CREATED:20170608T171146
DESCRIPTION: A weekend intensive designed for GLAM (Galleries\, Libraries\,
  Archives and Museum) professionals!  Our Intro Series  gives working prof
 essionals hands-on skills for human centered design and development.  \n\n
  Join us for a fun weekend in Portland\, featuring site visits to local cu
 ltural institutions\, guest experts\, and new perspectives to bring back t
 o your work.  \n\n Sessions: \n\n July 22 \, 10 AM: PLANNING USER EXPERIEN
 CE PROJECTS \n\n July 22\,  2PM:  INTERVIEWING USERS AND JOURNEY MAPPING \
 n\n July 23\, 10 AM: ACCESSIBILITY AND USABILITY \n\n July 23\, 2PM:  DESI
 GNING SERVICES \n\n Questions? Contact Amelia Abreu : amelia@abreu.co \n
LAST-MODIFIED:20170717T214845
LOCATION:Portland\, OR
ORGANIZER:mailto:amelia@abreu.co
SUMMARY:GLAM Weekend Intensive: Intro to UX Design/Research
URL;VALUE=URI:https://ti.to/uxnightschool/GLAMintensive
URL;VALUE=URI:https://ti.to/uxnightschool/GLAMintensive
END:VEVENT
END:VCALENDAR
