BEGIN:VCALENDAR
VERSION:2.0
PRODID:icalendar-ruby
CALSCALE:GREGORIAN
BEGIN:VEVENT
DTSTAMP:20260421T024749Z
UID:QqdyVw
DTSTART;VALUE=DATE:20230415
DTEND;VALUE=DATE:20230416
CLASS:PUBLIC
CREATED:20230203T120605
DESCRIPTION: An ‘unconference’ for anyone involved or interested in use
 r experience design\, user research\, interaction design\, information arc
 hitecture\, usability\, accessibility and other associated fields. \n\n At
 tendees either run or participate in 20-minute sessions\, such as talks\, 
 demos or discussions. No headliners\, no product pitches\, just a friendly
  (if intense) event focused on sharing\, socialising and learning new stuf
 f. \n\n This year's event is on Saturday 15 April 2023 at PLATF9RM Hove To
 wn Hall\, Brighton. \n\n Included in the ticket price will be lovely food 
 and drink\, provided at the start of the day\, lunchtime and during the qu
 iz\, plus entry to the after party! \n\n The after party will be held at T
 he Greene Room upstairs at The Cricketers\, 15 Black Lion Street\, Brighto
 n. \n\n Follow us on Twitter \, or sign up for our newsletter for the late
 st news and ticket announcements. \n\n Visit our website for full event de
 tails. \n
LAST-MODIFIED:20230417T113105
LOCATION:Brighton & Hove
ORGANIZER:mailto:info@uxcampbrighton.org
SUMMARY:UX Camp Brighton 2023
URL;VALUE=URI:https://ti.to/uxcampbrighton/ux-camp-brighton-2023
URL;VALUE=URI:https://ti.to/uxcampbrighton/ux-camp-brighton-2023
END:VEVENT
END:VCALENDAR
