BEGIN:VCALENDAR
VERSION:2.0
PRODID:icalendar-ruby
CALSCALE:GREGORIAN
BEGIN:VEVENT
DTSTAMP:20260419T205205Z
UID:1yrYkQ
DTSTART;VALUE=DATE:20170722
DTEND;VALUE=DATE:20170723
CLASS:PUBLIC
CREATED:20170322T125425
DESCRIPTION: Urlaub in Köln \n\n Mit dem Schienenbus auf Trassen durch die
  rheinische Industriegeschichte \n\n Fahren Sie mit dem historischen Schie
 nenbus aus dem letzten Jahrhundert über Güterzugstrecken\, durch Güterb
 ahnhöfe und erfahren mehr über die rheinische Industriegeschichte zwisch
 en Klütten\, Kabeln\, Motoren\, Chemie und Zucker. \n\n Wichtige Hinweise
  zum Ticketkauf: \n\n \n Bitte scrollen Sie auf der Website weiter runter\
 , geben die gewünschte Anzahl der zu kaufenden Tickets ein und drücken d
 en Button teilnehmen. \n Sie werden dann automatisch weitergeleitet.  \n D
 a die Tickets online verschickt werden\, müssen Sie bitte pro Teilnehmer 
 einen Namen und eine E-Mail -Adresse eingeben. Beides kann mehrfach eingeg
 eben werden. \n \n\n Das Team von Urlaub in Köln freut sich über ihre Te
 ilnahme! \n
LAST-MODIFIED:20231212T102856
LOCATION:Hauptbahnhof Köln
ORGANIZER:mailto:info@koelsch-akademie.de
SUMMARY:Schienenbusfahrt am Samstag\, 22. Juli 2017 (13.40 - 16.30 Uhr)
URL;VALUE=URI:https://ti.to/urlaub-in-koln/schienenbusfahrt-am-samstag-22-j
 uli-2017-13-40-16-30-uhr
URL;VALUE=URI:https://ti.to/urlaub-in-koln/schienenbusfahrt-am-samstag-22-j
 uli-2017-13-40-16-30-uhr
END:VEVENT
END:VCALENDAR
