BEGIN:VCALENDAR
VERSION:2.0
PRODID:icalendar-ruby
CALSCALE:GREGORIAN
BEGIN:VEVENT
DTSTAMP:20260419T210023Z
UID:nMW4bw
DTSTART;VALUE=DATE:20180721
DTEND;VALUE=DATE:20180722
CLASS:PUBLIC
CREATED:20180513T185412
DESCRIPTION: Urlaub in Köln 2018 \n\n Schienenbustour: Rund um Köln und i
 n den Deutzer Hafen \n\n Tour 1 macht nach der Stadtumrundung einen Abstec
 her zum Deutzer Hafen an die Ellmühle. An der Ellmühle können wir ausst
 eigen und Fotos von dem historischen Gefährt machen vor der Kulisse von K
 öln.\nDauer: 165 Minuten \n
LAST-MODIFIED:20180721T073759
LOCATION:Köln Hauptbahnhof\, zentrale Information
ORGANIZER:mailto:info@koelsch-akademie.de
SUMMARY:Schienenbustour: Rund um Köln und in den Deutzer Hafen am Samstag\
 , 21. Juli 2018 um 13.40 Uhr
URL;VALUE=URI:https://ti.to/urlaub-in-koln-2018/schienenbustour-rund-um-kol
 n-und-in-den-deutzer-hafen-am-samstag-21-juli-2018-um-13-40-uhr
URL;VALUE=URI:https://ti.to/urlaub-in-koln-2018/schienenbustour-rund-um-kol
 n-und-in-den-deutzer-hafen-am-samstag-21-juli-2018-um-13-40-uhr
END:VEVENT
END:VCALENDAR
