BEGIN:VCALENDAR
VERSION:2.0
PRODID:icalendar-ruby
CALSCALE:GREGORIAN
BEGIN:VEVENT
DTSTAMP:20260419T205906Z
UID:sheLYw
DTSTART;VALUE=DATE:20180722
DTEND;VALUE=DATE:20180723
CLASS:PUBLIC
CREATED:20180515T082248
DESCRIPTION: Urlaub in Köln 2018 \n\n Schienenbustour: Rund um Köln und a
 uf der Klüttenbahn bis Frechen \n\n Tour 2 führt über den Hansaring auf
  die Klüttenbahn nach Frechen. Dann geht es auf Güterzugstrecken rund um
  Köln über die Südbrücke zurück zum Kölner Hauptbahnhof. Auf dieser 
 Strecke dürfen wir den Schienenbus aus sicherheitstechnischem Gründen ni
 cht verlassen.\nDauer circa 140 Minuten \n
LAST-MODIFIED:20180722T090239
LOCATION:Köln Hauptbahnhof\, zentrale Information
ORGANIZER:mailto:info@koelsch-akademie.de
SUMMARY:Schienenbustour: Rund um Köln und auf der Klüttenbahn bis Frechen
  am Sonntag\, 22. Juli 2018 um 16.50 Uhr
URL;VALUE=URI:https://ti.to/urlaub-in-koln-2018/schienenbustour-rund-um-kol
 n-und-auf-der-kluttenbahn-bis-frechen-am-sonntag-22-juli-2018-um-16-50-uhr
URL;VALUE=URI:https://ti.to/urlaub-in-koln-2018/schienenbustour-rund-um-kol
 n-und-auf-der-kluttenbahn-bis-frechen-am-sonntag-22-juli-2018-um-16-50-uhr
END:VEVENT
END:VCALENDAR
