BEGIN:VCALENDAR
VERSION:2.0
PRODID:icalendar-ruby
CALSCALE:GREGORIAN
BEGIN:VEVENT
DTSTAMP:20260422T174613Z
UID:8wfLAQ
DTSTART;VALUE=DATE:20180616
DTEND;VALUE=DATE:20180617
CLASS:PUBLIC
CREATED:20180315T171313
DESCRIPTION:  \n\n Please join us for a historical scavenger hunt in Yorkvi
 lle and East Harlem. \nPrizes will be awarded to the top teams! \n\n When 
 \nJune 16\, 2018 at 2:00PM \n\n Where \nYorkville and East Harlem \nRoughl
 y 2 miles of walking. \n\n Starting Location \nThe garden at Church of the
  Holy Trinity \n316 East 88th Street (between First and Second Avenues) \n
 \n Teams \n1-4 people per team. \n\n What do you need? \nAt least 1 team m
 ember with an iPhone (iOS 10.0+) \nUrban Archive App (download here) \nCom
 fortable walking shoes  \n\n Schedule \n2:00 - 2:30pm: Registration \n2:30
  - 2:45pm: Team instructions \n2:45pm: Begin scavenger hunt! \n4:00pm: Mee
 t at the final location \n4:00 - 5:00pm: Scoring and prizes \n
LAST-MODIFIED:20180517T180416
LOCATION:Yorkville/East Harlem
ORGANIZER:mailto:feedback@urbanarchive.nyc
SUMMARY:The Hunt: Yorkville/East Harlem
URL;VALUE=URI:https://ti.to/urbanarchive/thehunt-yorkville-eastharlem
URL;VALUE=URI:https://ti.to/urbanarchive/thehunt-yorkville-eastharlem
END:VEVENT
END:VCALENDAR
