BEGIN:VCALENDAR
VERSION:2.0
PRODID:icalendar-ruby
CALSCALE:GREGORIAN
BEGIN:VEVENT
DTSTAMP:20260424T205437Z
UID:2LNdpA
DTSTART;VALUE=DATE:20230302
DTEND;VALUE=DATE:20230303
CLASS:PUBLIC
CREATED:20230223T131107
DESCRIPTION: TechTalks are a talk series brought to you by Research Computi
 ng at Leeds. The talks aim to showcase interesting and exciting computatio
 nal tools for researchers! \n\n This talk is from Alex Coleman from the Re
 search Computing team talking about the Rust programming language and why 
 he thinks you should start considering it in your research. \n\n This even
 t will be hybrid. \n
LAST-MODIFIED:20240208T115834
LOCATION:University of Leeds
ORGANIZER:mailto:a.coleman1@leeds.ac.uk
SUMMARY:TechTalk 2023: Why Rust for research?
URL;VALUE=URI:https://ti.to/university-of-leeds-research-computing/techtalk
 -2023-why-rust
URL;VALUE=URI:https://ti.to/university-of-leeds-research-computing/techtalk
 -2023-why-rust
END:VEVENT
BEGIN:VEVENT
DTSTAMP:20260424T205437Z
UID:2LNdpA1053522
DTSTART:20230302T140000
DTEND:20230302T150000
CLASS:PUBLIC
CREATED:20230223T131110
LAST-MODIFIED:20230223T143035
ORGANIZER:mailto:a.coleman1@leeds.ac.uk
SUMMARY:[TechTalk 2023: Why Rust for research?] Talk
URL;VALUE=URI:https://ti.to/university-of-leeds-research-computing/techtalk
 -2023-why-rust
URL;VALUE=URI:https://ti.to/university-of-leeds-research-computing/techtalk
 -2023-why-rust
END:VEVENT
END:VCALENDAR
