BEGIN:VCALENDAR
VERSION:2.0
PRODID:icalendar-ruby
CALSCALE:GREGORIAN
BEGIN:VEVENT
DTSTAMP:20260424T205733Z
UID:YmdoTg
DTSTART;VALUE=DATE:20230123
DTEND;VALUE=DATE:20230124
CLASS:PUBLIC
CREATED:20230104T100113
DESCRIPTION: Join us for the first TechTalk of 2023! Brought to you by Rese
 arch Computing this series of talks aims to showcase interesting and excit
 ing computational tools for researchers! \n\n This talk is from Neil Shepa
 rd an RSE at the University of Sheffield talking about the pre-commit tool
  for managing and maintaining your favourite git hooks. \n
LAST-MODIFIED:20240208T115834
LOCATION:University of Leeds
ORGANIZER:mailto:a.coleman1@leeds.ac.uk
SUMMARY:TechTalk 2023: pre-commit
URL;VALUE=URI:https://ti.to/university-of-leeds-research-computing/techtalk
 -2023-pre-commit
URL;VALUE=URI:https://ti.to/university-of-leeds-research-computing/techtalk
 -2023-pre-commit
END:VEVENT
BEGIN:VEVENT
DTSTAMP:20260424T205733Z
UID:YmdoTg1051391
DTSTART:20230123T140000
DTEND:20230123T150000
CLASS:PUBLIC
CREATED:20230104T100723
LAST-MODIFIED:20230104T120727
ORGANIZER:mailto:a.coleman1@leeds.ac.uk
SUMMARY:[TechTalk 2023: pre-commit] Talk
URL;VALUE=URI:https://ti.to/university-of-leeds-research-computing/techtalk
 -2023-pre-commit
URL;VALUE=URI:https://ti.to/university-of-leeds-research-computing/techtalk
 -2023-pre-commit
END:VEVENT
END:VCALENDAR
