BEGIN:VCALENDAR
VERSION:2.0
PRODID:icalendar-ruby
CALSCALE:GREGORIAN
BEGIN:VEVENT
DTSTAMP:20260422T054309Z
UID:ePEddA
DTSTART;VALUE=DATE:20210305
DTEND;VALUE=DATE:20210306
CLASS:PUBLIC
CREATED:20210218T092804
DESCRIPTION: Presented by: Martin Callaghan \n\n Many people use Google Col
 ab (and other Jupyter Notebook tools) to develop and run their Deep Learni
 ng and other research code\, but it's often a nuisance to move these codes
  over to HPC where the 'big' resources live.\nIn this talk we'll show you 
 some hints and tips to move codes\, trained networks and data quickly and 
 easily between Notebooks and ARC and how to run jobs directly from the Not
 ebook without having to bother with an SSH session. \n
LAST-MODIFIED:20240208T115834
LOCATION:Zoom
ORGANIZER:mailto:a.coleman1@leeds.ac.uk
SUMMARY:Research Computing TechTalk: From Google Colab to HPC and back agai
 n
URL;VALUE=URI:https://ti.to/university-of-leeds-research-computing/research
 -computing-techtalk-from-google-colab-to-hpc-and-back-again
URL;VALUE=URI:https://ti.to/university-of-leeds-research-computing/research
 -computing-techtalk-from-google-colab-to-hpc-and-back-again
END:VEVENT
BEGIN:VEVENT
DTSTAMP:20260422T054309Z
UID:ePEddA1037038
DTSTART:20210305T140000
DTEND:20210305T150000
CLASS:PUBLIC
CREATED:20210218T093000
LAST-MODIFIED:20210218T093000
ORGANIZER:mailto:a.coleman1@leeds.ac.uk
SUMMARY:[Research Computing TechTalk: From Google Colab to HPC and back aga
 in] TechTalk
URL;VALUE=URI:https://ti.to/university-of-leeds-research-computing/research
 -computing-techtalk-from-google-colab-to-hpc-and-back-again
URL;VALUE=URI:https://ti.to/university-of-leeds-research-computing/research
 -computing-techtalk-from-google-colab-to-hpc-and-back-again
END:VEVENT
END:VCALENDAR
