BEGIN:VCALENDAR
VERSION:2.0
PRODID:icalendar-ruby
CALSCALE:GREGORIAN
BEGIN:VEVENT
DTSTAMP:20260422T054800Z
UID:eHVPJQ
DTSTART;VALUE=DATE:20210319
DTEND;VALUE=DATE:20210320
CLASS:PUBLIC
CREATED:20210218T093949
DESCRIPTION: Presented by: The Research Computing Team \n\n Azure Labs is a
  flexible and straightforward way of providing bespoke Linux or Windows 'd
 esktops in the cloud'. You can easily run a class\, set up a training lab\
 , or host a hackathon in the cloud that your students and users can access
  from anywhere\, any time. You can set up tools\, applications and data in
  advance or let your users do it themselves- as they have 'root' access to
  their own resource. \n\n In this session we'll look at setup and configur
 ation\, costs and some potential use-cases. \n
LAST-MODIFIED:20240208T115834
LOCATION:Zoom
ORGANIZER:mailto:ask-rc@leeds.ac.uk
SUMMARY:Research Computing TechTalk: Flexible Teaching and Learning with Az
 ure Labs
URL;VALUE=URI:https://ti.to/university-of-leeds-research-computing/research
 -computing-techtalk-flexible-teaching-and-learning-with-azure-labs
URL;VALUE=URI:https://ti.to/university-of-leeds-research-computing/research
 -computing-techtalk-flexible-teaching-and-learning-with-azure-labs
END:VEVENT
BEGIN:VEVENT
DTSTAMP:20260422T054800Z
UID:eHVPJQ1037040
DTSTART:20210319T140000
DTEND:20210319T150000
CLASS:PUBLIC
CREATED:20210218T093950
LAST-MODIFIED:20210218T094129
ORGANIZER:mailto:ask-rc@leeds.ac.uk
SUMMARY:[Research Computing TechTalk: Flexible Teaching and Learning with A
 zure Labs] TechTalk
URL;VALUE=URI:https://ti.to/university-of-leeds-research-computing/research
 -computing-techtalk-flexible-teaching-and-learning-with-azure-labs
URL;VALUE=URI:https://ti.to/university-of-leeds-research-computing/research
 -computing-techtalk-flexible-teaching-and-learning-with-azure-labs
END:VEVENT
END:VCALENDAR
