BEGIN:VCALENDAR
VERSION:2.0
PRODID:icalendar-ruby
CALSCALE:GREGORIAN
BEGIN:VEVENT
DTSTAMP:20260424T142314Z
UID:4cfIMg
DTSTART;VALUE=DATE:20160526
DTEND;VALUE=DATE:20160527
CLASS:PUBLIC
CREATED:20160218T130435
DESCRIPTION: The Centre for Excellence in Universal Design (CEUD) at the Na
 tional Disability Authority (NDA) would like to invite you to attend the U
 niversal Design Grand Challenge 2016 Students Awards.  \n\n 9 finalists fr
 om colleges around Ireland will be judged on the presentation of their des
 igns. Finalists will compete fro the Judge's Choice Award\, the Peoples' C
 hoice Award and the The Enterprise Ireland “Universal Design Commerciali
 sation Award”.  \n\n See the Universal Design Grand Challenge 2016 Final
 ists. \n\n Bill Kearney\, Vice President IBM Ireland Lab will give a keyno
 te presentation. \n\n This years Universal Design Grand Challenge will fea
 ture new award categories. \n\n \n Instead of one we will have 3 Judges Aw
 ards for the "Built Environment"\, "Products and Services" and "Informatio
 n and Communication Technology".  The winner of each category will receive
  a cash prize and the coveted Universal Design Grand Challenge 2016 perpet
 ual trophy for that category.  \n Don't worry -  the People's Choice Award
  and Universal Design for Commercialisation Award\, supported by Enterpris
 e Ireland will remain. \n \n\n   \n\n Supported by: \n\n  \n
LAST-MODIFIED:20160526T091550
LOCATION:Science Gallery
ORGANIZER:mailto:lbrowan@nda.ie
SUMMARY:Universal Design Grand Challenge 2016 Student Awards
URL;VALUE=URI:https://ti.to/universal-design-grand-challenge-awards-night/u
 niversal-design-grand-challenge-2016-student-awards
URL;VALUE=URI:https://ti.to/universal-design-grand-challenge-awards-night/u
 niversal-design-grand-challenge-2016-student-awards
END:VEVENT
END:VCALENDAR
