BEGIN:VCALENDAR
VERSION:2.0
PRODID:icalendar-ruby
CALSCALE:GREGORIAN
BEGIN:VEVENT
DTSTAMP:20260423T124958Z
UID:5KOBbQ
DTSTART;VALUE=DATE:20220818
DTEND;VALUE=DATE:20220822
CLASS:PUBLIC
CREATED:20220517T102143
DESCRIPTION: We're pleased to host summer school\, a chance to experience s
 ome of the best aikido in the UK with a number of classes led by Kobayashi
  Shihan\, 7th dan from Hombu Dojo\, Japan. \n\n Classes will run from 1000
  - 1700 everyday except Sunday when we finish at 1500. \n\n Costs \n\n \n 
 Tickets are on sale until Monday 8th August. \n The tickets for all traini
 ng are £120\, on the day will be £150. \n Daily tickets are £40\, on th
 e day will be £50. \n \n
LAST-MODIFIED:20250605T083401
LOCATION:Nottingham University
ORGANIZER:mailto:courses@ukaikikai.org.uk
SUMMARY:UKA Summer School 2022
URL;VALUE=URI:https://ti.to/uka/ss2022
URL;VALUE=URI:https://ti.to/uka/ss2022
END:VEVENT
END:VCALENDAR
