BEGIN:VCALENDAR
VERSION:2.0
PRODID:icalendar-ruby
CALSCALE:GREGORIAN
BEGIN:VEVENT
DTSTAMP:20260420T140505Z
UID:GgDNkA
DTSTART;VALUE=DATE:20190928
DTEND;VALUE=DATE:20190929
CLASS:PUBLIC
CREATED:20190702T191356
DESCRIPTION: We're excited to invite you to our 3rd PSDay.UK for the commun
 ity by the community! Want to learn from and with the PowerShell community
  but can't afford to go overseas for PSConf.EU\, PS Summit or PSConf.Asia?
  Your search is over - we're bringing a piece of the experience to Birming
 ham and the UK! \n\n Whether you're new to PowerShell or a seasoned practi
 tioner\, you'll learn many new things that will accelerate your career and
  impress your boss/client. Join us to learn what works and what doesn't. W
 ant to understand where the industry is heading and how PowerShell fits in
 to the bigger picture? \n\n PSDay.UK 2019 is the place to be! \n\n What is
  included? \n\n \n Access to all sessions &amp\; tracks (Mix'n Match) \n C
 atered hot &amp\; cold lunch buffet\, coffee\, tea and snacks \n Free park
 ing at Arena Birmingham \n 20% discount with Virgin Trains \n Unlimited In
 ternet access (Wi-Fi) at the venue \n \n
LAST-MODIFIED:20190926T182536
LOCATION:The ICC\, Birmingham\, UK
ORGANIZER:mailto:events@devopscollective.org.uk
SUMMARY:PSDay.UK 2019 - UK's PowerShell conference
URL;VALUE=URI:https://ti.to/uk-devops-collective-cic/psdayuk-2019
URL;VALUE=URI:https://ti.to/uk-devops-collective-cic/psdayuk-2019
END:VEVENT
END:VCALENDAR
