BEGIN:VCALENDAR
VERSION:2.0
PRODID:icalendar-ruby
CALSCALE:GREGORIAN
BEGIN:VEVENT
DTSTAMP:20260420T233959Z
UID:dpdpoA
DTSTART;VALUE=DATE:20190605
DTEND;VALUE=DATE:20190606
CLASS:PUBLIC
CREATED:20190425T161920
DESCRIPTION: This is the second of our React Workshop Series\, but attendan
 ce to our first workshop is not necessary if you have already been introdu
 ced to React. This 5 hour course will provide the platform for you to lear
 n  the following topics: \n\n \n What is a component? \n Rendering compone
 nts with JSX \n Passing data about with props \n The UI as a function of s
 tate \n Managing state with hooks \n Component Validation \n Building and 
 deployment \n \n\n We are excited to provide a Certificate of Completion t
 o all successful workshop participants! \n
LAST-MODIFIED:20190531T174038
LOCATION:TRU Generator
ORGANIZER:mailto:paige.whitson@twostoryrobot.com
SUMMARY:Become An Expert In React
URL;VALUE=URI:https://ti.to/twostoryrobot/become-an-expert-in-react
URL;VALUE=URI:https://ti.to/twostoryrobot/become-an-expert-in-react
END:VEVENT
BEGIN:VEVENT
DTSTAMP:20260420T233959Z
UID:dpdpoA1026527
DTSTART:20190605T100000
DTEND:20190605T150000
CLASS:PUBLIC
CREATED:20190508T164051
LAST-MODIFIED:20190508T164224
ORGANIZER:mailto:paige.whitson@twostoryrobot.com
SUMMARY:[Become An Expert In React] React Level 2 Workshop
URL;VALUE=URI:https://ti.to/twostoryrobot/become-an-expert-in-react
URL;VALUE=URI:https://ti.to/twostoryrobot/become-an-expert-in-react
END:VEVENT
END:VCALENDAR
