BEGIN:VCALENDAR
VERSION:2.0
PRODID:icalendar-ruby
CALSCALE:GREGORIAN
BEGIN:VEVENT
DTSTAMP:20260421T120614Z
UID:SDQ31w
DTSTART;VALUE=DATE:20210419
DTEND;VALUE=DATE:20210423
CLASS:PUBLIC
CREATED:20210107T124722
DESCRIPTION: \nGlobal Sponsor: [**SplashHR**](https://splashhr.com/)- part 
 of SplashBI\n \n\n Europe's most popular People Analytics conference since
  2014 \n\n Find out how to drive your team and organisation forward throug
 h People Analytics and Data-Driven HR\, and help build the future of work 
 for the post-Covid world ahead. \n\n 19 - 22 April 2021 | Online \n\n ** C
 heck out the full speaker list ** \n\n "People Analytics World has been th
 e go-to conference for European people analytics professionals and HR lead
 ers for the last six years\, and its new virtual format makes it a truly g
 lobal event. With the pandemic elevating people analytics even further\,Pe
 ople Analytics World is a must-attend event for anyone working or interest
 ed in the field." \n\n - David Green\, keynote speaker and regular chair\,
  People Analytics World* \n\n \n\n | Standard Pass | Pro Pass |\n| -------
 ------ | -------- |\n| Access all presentations and panels\, live or on de
 mand | Access all presentations and panels\, live or on demand |\n| Matchm
 aking and speed networking | Matchmaking and speed networking |\n| Access 
 exhibition and networking lounges | Access exhibition and networking loung
 es |\n| On Demand access during the event | On Demand access for 30 days |
 \n|  | Access all workshops |\n|  | Presentation slides in PDF (where avai
 lable) | \n\n \n\n For more details\, see peopleanalyticsworld.com\, or vi
 ew the agenda here. If you have any issues\, please call +44 203 290 3221\
 , reach us on WhatsApp/Signal at +34 634 79 6611\, or email us here. \n\n 
 For VAT purposes\, please select the option that applies to the person mak
 ing the booking (regardless of who the tickets are for). UK and Switzerlan
 d\, please choose "outside the EU". \n
LAST-MODIFIED:20221110T102527
LOCATION:Online
ORGANIZER:mailto:admin@peopleanalyticsworld.com
SUMMARY:People Analytics World
URL;VALUE=URI:https://ti.to/tucana/peopleanalyticsworld
URL;VALUE=URI:https://ti.to/tucana/peopleanalyticsworld
END:VEVENT
END:VCALENDAR
