BEGIN:VCALENDAR
VERSION:2.0
PRODID:icalendar-ruby
CALSCALE:GREGORIAN
BEGIN:VEVENT
DTSTAMP:20260424T094805Z
UID:KdiV3g
DTSTART;VALUE=DATE:20160628
DTEND;VALUE=DATE:20160629
CLASS:PUBLIC
CREATED:20160531T210120
DESCRIPTION: True Stories Told Live June 28th show - advance tickets are no
 w gone\, but there are tickets on the door for $10.  Just turn up and we'l
 l see you there! \n\n Come and enjoy five stories that'll make you laugh\,
  cry\, or want to turn and hug the stranger next to you. Plus four bonus s
 hort teaser-stories from the storytelling stars of the Toronto Fringe! \n\
 n "Toronto’s best storytelling show”\n– She Does The City \n
LAST-MODIFIED:20160628T170138
LOCATION:Toronto\, Ontario
ORGANIZER:mailto:noreply-calendar@tito.io
SUMMARY:True Stories Told Live - June 28th\, 2016!
URL;VALUE=URI:https://ti.to/true-stories-told-live/june16
URL;VALUE=URI:https://ti.to/true-stories-told-live/june16
END:VEVENT
END:VCALENDAR
