BEGIN:VCALENDAR
VERSION:2.0
PRODID:icalendar-ruby
CALSCALE:GREGORIAN
BEGIN:VTIMEZONE
TZID:America/New_York
BEGIN:DAYLIGHT
DTSTART:20240310T030000
TZOFFSETFROM:-0500
TZOFFSETTO:-0400
RRULE:FREQ=YEARLY;BYDAY=2SU;BYMONTH=3
TZNAME:EDT
END:DAYLIGHT
BEGIN:STANDARD
DTSTART:20241103T010000
TZOFFSETFROM:-0400
TZOFFSETTO:-0500
RRULE:FREQ=YEARLY;BYDAY=1SU;BYMONTH=11
TZNAME:EST
END:STANDARD
END:VTIMEZONE
BEGIN:VEVENT
DTSTAMP:20260424T014832Z
UID:mHYSDQ
DTSTART;TZID=America/New_York:20241029T193000
DTEND;TZID=America/New_York:20241029T220000
CLASS:PUBLIC
CREATED:20240731T194321
DESCRIPTION: **ADVANCE TICKETS NOW SOLD OUT! Tickets available on the door 
 for $20** \n\n TUES OCT 29th @ 7:30*–10pm Fundraiser for [otherwise free
 ] show True Stories Told Live Toronto\, featuring storytellers telling (mo
 stly) true stories about eerie things that happened to or near them\, and 
 traditional ghost stories. Featuring some of True Stories Told Live’s pr
 evious favourites\, and a few new faces. Plus the annual and ever popular 
 Ghostbusters Theme singalong! \n\n *Doors 6:45pm\, latecomers admitted ver
 y quietly \n\n **SEATING NOT GUARANTEED** If you want a seat\, come at 6:4
 5pm. If you're not able to do that and you have accessibility issues that 
 mean you need a seat\, please email hello@yesyesmarsha.com before 5pm on t
 he day of the show. \n\n The Garrison is wheelchair accessible (including 
 a washroom) \n\n We don't have a masking policy. I tried having "masked on
 ly" seating down the back\, but no one ever used it. If you're coming and 
 you'd like me to re-instate that\, just forward your ticket receipt to hel
 lo[at]yesyesmarsha.com and I will!  \n\n http://www.truestoriestoronto.com
  \n
LAST-MODIFIED:20241029T170440
LOCATION:The Garrison\, 1197 Dundas St W\, Toronto
ORGANIZER:mailto:hello@yesyesmarsha.com
SUMMARY:GHOST Stories Told Live 2024!
URL;VALUE=URI:https://ti.to/true-stories-told-live/ghost2024
URL;VALUE=URI:https://ti.to/true-stories-told-live/ghost2024
END:VEVENT
END:VCALENDAR
