BEGIN:VCALENDAR
VERSION:2.0
PRODID:icalendar-ruby
CALSCALE:GREGORIAN
BEGIN:VEVENT
DTSTAMP:20260424T145541Z
UID:R2zPiA
DTSTART;VALUE=DATE:20171116
DTEND;VALUE=DATE:20171117
CLASS:PUBLIC
CREATED:20170119T115040
DESCRIPTION: 9.00am - 5.00pm \n\n Learn by doing in this expert-led hands-o
 n Google Tag Manager workshop. This unique session is designed to introduc
 e Google Tag Manager in a collaborative environment with a small class siz
 e. \n\n Each workshop is small\, intimate and completely hands-on. Google 
 Tag Manager has a learning curve that makes theory driven classes unproduc
 tive. This workshop is completely tailored to small groups no bigger than 
 8 people. \n
LAST-MODIFIED:20171108T102515
LOCATION:Dublin
ORGANIZER:mailto:go@analyticstraining.ie
SUMMARY:Google Tag Manager Workshop | Dublin | November 2017
URL;VALUE=URI:https://ti.to/training/google-tag-manager-workshop-dublin-nov
 ember-2017
URL;VALUE=URI:https://ti.to/training/google-tag-manager-workshop-dublin-nov
 ember-2017
END:VEVENT
END:VCALENDAR
