BEGIN:VCALENDAR
VERSION:2.0
PRODID:icalendar-ruby
CALSCALE:GREGORIAN
BEGIN:VEVENT
DTSTAMP:20260424T145541Z
UID:7dPfXA
DTSTART;VALUE=DATE:20171113
DTEND;VALUE=DATE:20171116
CLASS:PUBLIC
CREATED:20170111T152224
DESCRIPTION: 9.00am - 5.00pm \n\n Mastering Google Analytics is not easy. I
 t takes more than just knowing how to access reports. You will need to dev
 elop knowledge of how data is captured\, stored and displayed while being 
 inquisitive to ask the right questions to get real insight. \n\n The resul
 t of 10+ years of consulting\, lecturing\, mentoring and group training. T
 his masterclass has been \ncompletely tailored for those who want to use d
 ata to improve the performance of their websites. \n
LAST-MODIFIED:20171208T164047
LOCATION:Dublin
ORGANIZER:mailto:go@analyticstraining.ie
SUMMARY:Google Analytics Masterclass | Dublin | November 2017
URL;VALUE=URI:https://ti.to/training/google-analytics-masterclass-dublin-no
 vember-2017
URL;VALUE=URI:https://ti.to/training/google-analytics-masterclass-dublin-no
 vember-2017
END:VEVENT
END:VCALENDAR
