BEGIN:VCALENDAR
VERSION:2.0
PRODID:icalendar-ruby
CALSCALE:GREGORIAN
BEGIN:VEVENT
DTSTAMP:20260422T085858Z
UID:OtmV8A
DTSTART;VALUE=DATE:20180320
DTEND;VALUE=DATE:20180321
CLASS:PUBLIC
CREATED:20180221T063043
DESCRIPTION: Growing your eCommerce Business in 2018 \n\n Register now! \n\
 n Join us and learn from the experts in Hong Kong on how you can optimise 
 your online store and grow your business in 2018. \n\n We have a great lin
 eup of presentations and panel discussions: \n\n 3 key eCommerce trends to
  grow your business in 2018 \n\n Meet Namra &amp\; Sarah from the Shopify 
 team \n\n Tips and tricks on how to optimise your Shopify store and close 
 more sales \n\n Q&amp\;A with our special Shopify guest merchants  \n\n Fo
 od &amp\; drinks provided   \n\n Don't miss out - Register Now! \n\n 6-9pm
 \, Tuesday 20th March 2018 \n\n Co-hosted by Shopify\, TradeGecko and Wave
  Commerce. \n
LAST-MODIFIED:20180319T062312
LOCATION:Hong Kong
ORGANIZER:mailto:noreply-calendar@tito.io
SUMMARY:Shopify Meetup Hong Kong | March 2018
URL;VALUE=URI:https://ti.to/tradegecko/shopify-meetup-hk-march-2018
URL;VALUE=URI:https://ti.to/tradegecko/shopify-meetup-hk-march-2018
END:VEVENT
END:VCALENDAR
