BEGIN:VCALENDAR
VERSION:2.0
PRODID:icalendar-ruby
CALSCALE:GREGORIAN
BEGIN:VEVENT
DTSTAMP:20260422T132813Z
UID:QYdfTA
DTSTART;VALUE=DATE:20140614
DTEND;VALUE=DATE:20140615
CLASS:PUBLIC
CREATED:20140513T153945
DESCRIPTION: What is this workshop about? \n\n This workshop intends to giv
 e an introduction to AngularJS for those who had no previous experience or
  exposure to this framework. It is ideal for anyone who would like to unde
 rstand its basics without digging too deep into the nitty-gritty details b
 ut still walk away with a good understanding of what the framework can do.
  \n\n Is this for me? \n\n If you want to get a quick start with Angular a
 nd see what all the fuss is about then this is for you. Whether you're a d
 eveloper\, designer\, manager\, entrepreneur or just starting out you'll l
 earn something valuable from the workshop. Some familiarity with JavaScrip
 t or even jQuery will help you get the most out of the workshop. \n\n Any 
 prerequisites? \n\n Ideally you should already be familiar with HTML and t
 he DOM as well as basic CSS and of course some basic JavaScript knowledge 
 won't hurt either. \n\n Right\, so what will I learn then? \n\n This one d
 ay workshop will walk you through the following: \n\n \n Familiarising you
 rself with Angular - get up and running with the framework \n Learning how
  you can create a web application with Angular \n Introducing some basic f
 eatures such as: expressions\, data-binding\, directives\, filters and dep
 endency injection \n Discussing some advanced features such as templates\,
  routing\, custom directives\, custom filters and services &amp\; factorie
 s \n Rolling up your sleeves and get your hands dirty by writing a basic a
 pplication that shows the power of Angular \n \n\n You will also be doing 
 lab exercises and all the material is yours to take home. \n\n Who's teach
 ing? \n\n The workshop will be delivered by Tamas Piros - who has 15+ year
 s experience working in the IT industry and held various roles from Softwa
 re Engineer to Senior Technical Trainer. He currently works as a Technical
  Trainer &amp\; Curriculum Developer as well as authoring a book on Angula
 rJS for Manning Publishing. \n\n What do I need to attend? \n\n \n Your la
 ptop (Mac\, Linux\, Windows...you name it) and your favourite editor (Subl
 ime Text or similar) \n Pen &amp\; paper if you like to take notes in the 
 old-school way  \n Willingness to learn \n \n
LAST-MODIFIED:20140613T075127
LOCATION: 116-120 Goswell Road\, London\, EC1V 7DP\, UK
ORGANIZER:mailto:workshop@tamas.io
SUMMARY:Introduction to AngularJS (workshop)
URL;VALUE=URI:https://ti.to/tpiros/introduction-to-angularjs-workshop
URL;VALUE=URI:https://ti.to/tpiros/introduction-to-angularjs-workshop
END:VEVENT
END:VCALENDAR
