BEGIN:VCALENDAR
VERSION:2.0
PRODID:icalendar-ruby
CALSCALE:GREGORIAN
BEGIN:VEVENT
DTSTAMP:20260422T143209Z
UID:3q596w
DTSTART;VALUE=DATE:20160112
DTEND;VALUE=DATE:20160113
CLASS:PUBLIC
CREATED:20151115T094246
DESCRIPTION: The Extensible Web Summit is a series of unconference-style ev
 ents organized by members of the W3C Technical Architecture Group  that se
 ek to bring together Web developers\, Web standards makers and other stake
 holders in the future of the Web.  \n\n The format is an “unconference
 ” preceded by curated lightning talks.  \n\n Topics discussed include th
 e Extensible Web Manifesto but are not limited to it\; the Summit is a cha
 nce to discuss new approaches\, suggest new work\, highlight issues and ge
 nerally discuss the state of the Web platform and its continued evolution.
  \n\n The Summit is free to attend and depends heavily on participant enga
 gement. After the lightning talks\, participants will create the schedule 
 for a set of parallel breakout sessions. These discussions will be moderat
 ed and will be minuted\, with the intention of informing future work. \n
LAST-MODIFIED:20160208T132431
LOCATION:RMIT Building 80 (Swanston Academic Building)\, Melbourne 
ORGANIZER:mailto:dan@torgo.com
SUMMARY:Extensible Web Summit - Melbourne Edition
URL;VALUE=URI:https://ti.to/torgo/ews-melbourne
URL;VALUE=URI:https://ti.to/torgo/ews-melbourne
END:VEVENT
END:VCALENDAR
