BEGIN:VCALENDAR
VERSION:2.0
PRODID:icalendar-ruby
CALSCALE:GREGORIAN
BEGIN:VEVENT
DTSTAMP:20260422T180858Z
UID:koEgGQ
DTSTART;VALUE=DATE:20181020
DTEND;VALUE=DATE:20181022
CLASS:PUBLIC
CREATED:20171014T073403
DESCRIPTION: For full information please visit https://indieweb.org/2018/Nu
 remberg \n
LAST-MODIFIED:20220217T132551
LOCATION:tollwerkstatt\, Klingenhofstraße 5\, 90411 Nuremberg\, Germany
ORGANIZER:mailto:joschi@tollwerk.de
SUMMARY:IndieWebCamp Nuremberg 2018
URL;VALUE=URI:https://ti.to/tollwerk/indiewebcamp-nuremberg-2018
URL;VALUE=URI:https://ti.to/tollwerk/indiewebcamp-nuremberg-2018
END:VEVENT
END:VCALENDAR
