BEGIN:VCALENDAR
VERSION:2.0
PRODID:icalendar-ruby
CALSCALE:GREGORIAN
BEGIN:VTIMEZONE
TZID:America/New_York
BEGIN:DAYLIGHT
DTSTART:20260308T030000
TZOFFSETFROM:-0500
TZOFFSETTO:-0400
RRULE:FREQ=YEARLY;BYDAY=2SU;BYMONTH=3
TZNAME:EDT
END:DAYLIGHT
BEGIN:STANDARD
DTSTART:20251102T010000
TZOFFSETFROM:-0400
TZOFFSETTO:-0500
RRULE:FREQ=YEARLY;BYDAY=1SU;BYMONTH=11
TZNAME:EST
END:STANDARD
END:VTIMEZONE
BEGIN:VEVENT
DTSTAMP:20260425T120936Z
UID:P5n0Zg
DTSTART;TZID=America/New_York:20260226T080000
DTEND;TZID=America/New_York:20260227T163000
CLASS:PUBLIC
CREATED:20251212T162947
DESCRIPTION: Knoxville Microsoft Community Day 2026 \n\n February 26–27\,
  2026\nPellissippi State Community College – Blount County Campus \n\n 
 🎉 Friday Community Day — Tickets Available \n\n 28 sessions. One tick
 et. $15. \n\n 👉 Register now for Friday before seats fill. \n\n Friday 
 (Main Event): 28 breakout sessions across Microsoft 365\, Power Platform\,
  Copilot\, AI\, Security\, Governance\, Development\, and more. \n\n ✔9:
 00am–4:00pm \n\n ✔ Multiple tracks \n\n ✔ Networking + Lunch \n\n 
 ✔ Wrap-up + prizes \n
LAST-MODIFIED:20260227T082225
LOCATION:Pellissippi State Community College Blount County Campus
ORGANIZER:mailto:Knoxville@tndays.com
SUMMARY:Knoxville Microsoft Community Day 2026
URL;VALUE=URI:https://ti.to/tndays/knoxville2026
URL;VALUE=URI:https://ti.to/tndays/knoxville2026
END:VEVENT
BEGIN:VEVENT
DTSTAMP:20260425T120936Z
UID:P5n0Zg1093922
DTSTART;TZID=America/New_York:20260227T080000
DTEND;TZID=America/New_York:20260227T090000
CLASS:PUBLIC
CREATED:20251212T213855
DESCRIPTION:Get checked-in before sessions start and meet other attendees
LAST-MODIFIED:20251213T144836
LOCATION:Pellissippi State Community College Blount County Campus\, 2731 W 
 Lamar Alexander Pkwy\, Friendsville\, TN 37737\, USA
ORGANIZER:mailto:Knoxville@tndays.com
SUMMARY:[Knoxville Microsoft Community Day 2026] Registration & Networking
URL;VALUE=URI:https://ti.to/tndays/knoxville2026
X-ALT-DESC;FMTTYPE=text/html:Get checked-in before sessions start and meet 
 other attendees
URL;VALUE=URI:https://ti.to/tndays/knoxville2026
END:VEVENT
BEGIN:VEVENT
DTSTAMP:20260425T120936Z
UID:P5n0Zg1093925
DTSTART;TZID=America/New_York:20260227T090000
DTEND;TZID=America/New_York:20260227T160000
CLASS:PUBLIC
CREATED:20251212T214227
DESCRIPTION:All sessions on Friday
LAST-MODIFIED:20251212T214227
ORGANIZER:mailto:Knoxville@tndays.com
SUMMARY:[Knoxville Microsoft Community Day 2026] All Friday Sessions
URL;VALUE=URI:https://ti.to/tndays/knoxville2026
X-ALT-DESC;FMTTYPE=text/html:All sessions on Friday
URL;VALUE=URI:https://ti.to/tndays/knoxville2026
END:VEVENT
BEGIN:VEVENT
DTSTAMP:20260425T120936Z
UID:P5n0Zg1093923
DTSTART;TZID=America/New_York:20260227T115000
DTEND;TZID=America/New_York:20260227T123000
CLASS:PUBLIC
CREATED:20251212T213928
LAST-MODIFIED:20251222T231734
ORGANIZER:mailto:Knoxville@tndays.com
SUMMARY:[Knoxville Microsoft Community Day 2026] Lunch
URL;VALUE=URI:https://ti.to/tndays/knoxville2026
URL;VALUE=URI:https://ti.to/tndays/knoxville2026
END:VEVENT
BEGIN:VEVENT
DTSTAMP:20260425T120936Z
UID:P5n0Zg1093924
DTSTART;TZID=America/New_York:20260227T152000
DTEND;TZID=America/New_York:20260227T155000
CLASS:PUBLIC
CREATED:20251212T214023
DESCRIPTION:Stay to the end for prizes!
LAST-MODIFIED:20251222T231810
ORGANIZER:mailto:Knoxville@tndays.com
SUMMARY:[Knoxville Microsoft Community Day 2026] Wrap-up
URL;VALUE=URI:https://ti.to/tndays/knoxville2026
X-ALT-DESC;FMTTYPE=text/html:Stay to the end for prizes!
URL;VALUE=URI:https://ti.to/tndays/knoxville2026
END:VEVENT
END:VCALENDAR
