BEGIN:VCALENDAR
VERSION:2.0
PRODID:icalendar-ruby
CALSCALE:GREGORIAN
BEGIN:VEVENT
DTSTAMP:20260424T221740Z
UID:2LdcrQ
DTSTART;VALUE=DATE:20200308
DTEND;VALUE=DATE:20200309
CLASS:PUBLIC
CREATED:20200122T141045
DESCRIPTION: On Sunday March 8th\, Gardiner Street Gospel Choir\, one of Ir
 elands longest-running and most popular gospel choirs\, are celebrating 20
  phenomenal years by performing with our amazing 6 piece band at Dublin's 
 Button Factory. \n\n   \n\n Gardiner Street Gospel Choir &amp\; Band \n\n 
 with special guest \n\n Rónán Ó Snodaigh (of Kila) \n\n and MC \n\n Kar
 l Deeter \n\n After 20 years\, 800 performances\, and having played to a c
 ombined audience in excess of 250\,000 people. Gardiner Street Gospel Choi
 r are delighted to perform in the Button Factory. \n\n This intimate venue
 \, is a perfect choice to bring the choir and our renowned audience close 
 together to celebrate the exact date 20 years ago\, that the choir first m
 et for practice deep in the basement of St Francis Xavier's Church. \n\n A
  spectacular evening of entertainment awaits. Celebrate with us through th
 e joy of music and dance. \n\n Doors open at 7:30pm. \n\n Strictly Over 18
 ’s only.  \n\n Performance starts at 8pm sharp. Ends 10:30pm. Limited un
 reserved seating.  \n\n  \n
LAST-MODIFIED:20201118T022542
LOCATION:The Button Factory\, Curved St\, Temple Bar\, Dublin 2\, D02 RD26
ORGANIZER:mailto:tickets@thegsgc.com
SUMMARY:Going Platinum – 20th Anniversary Concert
URL;VALUE=URI:https://ti.to/thegsgc/going-platinum
URL;VALUE=URI:https://ti.to/thegsgc/going-platinum
END:VEVENT
END:VCALENDAR
