BEGIN:VCALENDAR
VERSION:2.0
PRODID:icalendar-ruby
CALSCALE:GREGORIAN
BEGIN:VEVENT
DTSTAMP:20260421T155246Z
UID:59amkg
DTSTART;VALUE=DATE:20200227
DTEND;VALUE=DATE:20200228
CLASS:PUBLIC
CREATED:20191209T204234
DESCRIPTION: We are The 100 who Give a Damn \n\n Are you 1 of the 100? \n\n
  We want to help charities in Ireland meet their funding requirements in a
  real and tangible way. \n\n We are delighted to announce the launch night
  of The 100 which will take place on the 27th February 2020 in House Dubli
 n\, Leeson Street\, Dublin 2. \n\n Some nibbles will be served to ease the
  hunger pains. \n\n Event will be from 6pm - 8pm and you are welcome to st
 ay afterwards for some social drinks. \n\n The three charities that will b
 e pitching on our launch night are: \n\n Barretstown \n\n The Samaritans \
 n\n HUG (Homes for Unwanted Greyhounds) \n\n All are extremely worthy char
 ities so come along and support them all. \n\n We ask you to come along an
 d support this fantastic charitable initiative and help us make difference
 . \n
LAST-MODIFIED:20200229T121248
LOCATION:Dublin\, Ireland
ORGANIZER:mailto:colin@the100.ie
SUMMARY:The 100 Launch
URL;VALUE=URI:https://ti.to/the100/the100launch
URL;VALUE=URI:https://ti.to/the100/the100launch
END:VEVENT
END:VCALENDAR
