BEGIN:VCALENDAR
VERSION:2.0
PRODID:icalendar-ruby
CALSCALE:GREGORIAN
BEGIN:VTIMEZONE
TZID:Europe/Berlin
BEGIN:DAYLIGHT
DTSTART:20260329T030000
TZOFFSETFROM:+0100
TZOFFSETTO:+0200
RRULE:FREQ=YEARLY;BYDAY=-1SU;BYMONTH=3
TZNAME:CEST
END:DAYLIGHT
BEGIN:STANDARD
DTSTART:20261025T020000
TZOFFSETFROM:+0200
TZOFFSETTO:+0100
RRULE:FREQ=YEARLY;BYDAY=-1SU;BYMONTH=10
TZNAME:CET
END:STANDARD
END:VTIMEZONE
BEGIN:VEVENT
DTSTAMP:20260419T182610Z
UID:8vrrVw
DTSTART;TZID=Europe/Berlin:20260912T220000
DTEND;TZID=Europe/Berlin:20260913T043000
CLASS:PUBLIC
CREATED:20260317T123432
DESCRIPTION: Animalz is back at Folsom Europe! \n\n Get ready to let loose 
 and be yourself at the official Folsom Europe party dedicated to pups\, fu
 rs\, kinksters in gear\, and anyone who wants to check out the vibe! Anima
 lz Folsom welcomes and celebrates you all. \n\n Be Seen - Be You - Be Love
 d! \n\n Animalz is ALWAYS an all-genders\, all sexualities\, all-identitie
 s party! \n\n We heard your feedback from 2025 and have made MASSIVE impro
 vements across multiple areas to make sure we deliver the best party ever.
  \n\n For Animalz Folsom there will be: \n\n \n Kennel Klub Pup play space
  with flooring \n IMPROVED Fursuit cool-off stations on multiple floors. \
 n Full Cloakroom/Gear/Bag Check onsite (additional charge). \n IMPROVED Eq
 uipped play spaces to use with friends \n 2 dance stages highlighting comm
 unity DJs playing techno\, EDM\, Pop\, Dance\, and more! \n Chill-out area
  \n IMPROVED multiple bars for faster drinks. \n BETTER temperature contro
 l. \n \n\n We can't wait to see you there! \n\n \n\n Mach dich bereit\, lo
 szulassen und du selbst zu sein bei der offiziellen Folsom Europe Animalz 
 ist zurück beim Folsom Europe! \n\n Mach Dich bereit\, loszulassen und ei
 nfach du zu sein auf der offiziellen Folsom-Europe-Party für Puppies\, Fu
 rries\, Kinkster in Gear und alle\, die einfach mal reinschnuppern wollen!
  Animalz Folsom heißt euch alle willkommen und feiert euch. \n\n Lass Dic
 h sehen - Lass Dich gehen - Lass Dich feiern! \n\n Animalz IST UND BLEIBT 
 eine Party für alle Geschlechter\, alle Sexualitäten\, alle Identitäten
 ! \n\n Wir haben euer Feedback aus 2025 gehört und MASSIVE Verbesserungen
  in mehreren Bereichen vorgenommen\, um sicherzustellen\, dass wir die bes
 te Party liefern. \n\n Folgendes wird es auf der Animalz Folsom geben: \n\
 n \n Kennel Klub – Pup-Play-Space mit Bodenbelag \n VERBESSERTE Fursuit-
 Abkühlstationen auf mehreren Etagen \n Vollständige Garderobe / Gear / T
 aschenaufbewahrung vor Ort (gegen Aufpreis) \n VERBESSERTE ausgestattete P
 lay-Spaces zum Nutzen mit Freunden \n 2 Tanzflächen mit Community-DJs\, d
 ie Techno\, EDM\, Pop\, Dance und mehr spielen! \n Chill-out-Bereich \n VE
 RBESSERTE Bars für schnellere Getränke \n BESSERE Klimatisierung \n \n\n
   \nWir können es kaum erwarten\, euch auf der Animalz Folsom zu sehen! \
 n
LAST-MODIFIED:20260317T203244
LOCATION:Berlin\, Germany
ORGANIZER:mailto:bark@clubanimalz.com
SUMMARY:Animalz Folsom 2026
URL;VALUE=URI:https://ti.to/the-woof-machine/animalz-folsom-2026
URL;VALUE=URI:https://ti.to/the-woof-machine/animalz-folsom-2026
END:VEVENT
END:VCALENDAR
