BEGIN:VCALENDAR
VERSION:2.0
PRODID:icalendar-ruby
CALSCALE:GREGORIAN
BEGIN:VTIMEZONE
TZID:Europe/London
BEGIN:DAYLIGHT
DTSTART:20250330T020000
TZOFFSETFROM:+0000
TZOFFSETTO:+0100
RRULE:FREQ=YEARLY;BYDAY=-1SU;BYMONTH=3
TZNAME:BST
END:DAYLIGHT
BEGIN:STANDARD
DTSTART:20251026T010000
TZOFFSETFROM:+0100
TZOFFSETTO:+0000
RRULE:FREQ=YEARLY;BYDAY=-1SU;BYMONTH=10
TZNAME:GMT
END:STANDARD
END:VTIMEZONE
BEGIN:VEVENT
DTSTAMP:20260420T141559Z
UID:dg6wMQ
DTSTART;TZID=Europe/London:20250905T090000
DTEND;TZID=Europe/London:20250906T170000
CLASS:PUBLIC
CREATED:20250625T125429
DESCRIPTION: Fixfest 2025 is a global gathering for community repair which 
 will take place in Hackney\, London on the 5th and 6th of September 2025. 
 We will welcome fixers\, activists\, policy-makers\, thinkers\, educators 
 and companies from all over the world. \n\n Organised by The Restart Proje
 ct\, Fixfest 2025 promises to be a unique chance to meet and learn from pe
 ople involved in every aspect of community repair and those pushing for ma
 king repair available to all across the globe. \n\n This fourth internatio
 nal edition is sponsored by iFixit\, Back Market &amp\; Softwire. We would
  also like to thank Hackney Council for their support with the venues\, an
 d also our funders The Joseph Rowntree Charitable Trust and City Bridge Fo
 undation. \n\n To ensure fair representation from as many countries as pos
 sible\, tickets are limited to two per community repair group or organisat
 ion and are non-refundable. \n\n \n ⚠️ Tickets have now sold out. But 
 if you are actively involved in community repair or the wider repair secto
 r and want to attend\, please join a waiting list and get in touch to expl
 ain your interest: fixfest@therestartproject.org. In case of cancellations
 \, we may be able to offer you a ticket\, but we cannot guarantee this. \n
  \n\n \n\n Multiple venues \n\n This year we will be hosting Fixfest at tw
 o different locations in Hackney\, London. Friday day and the evening soci
 al will be at Hackney Town Hall\, and Saturday day will be at City Academy
 \, Hackney. \n\n \n\n Two-day or one-day tickets \n\n Whilst our hope is e
 veryone will be able to attend both days\, we understand this may not be p
 ossible. You have the option to purchase a ticket for both the Friday &amp
 \; Saturday\, or just one of those days depending on your availability. \n
 \n \n\n Ticket types \n\n There are different ticket types\, please see be
 low for details. All ticket types are available to be purchased as a two-d
 ay or a one-day ticket. \n\n \n Standard: as the name suggests\, this is t
 he standard ticket for anyone who does not come under one of the other two
  ticket types. (see below) \n Movement builder: these are for anyone able 
 to contribute a little more to help subsidise places for those travelling 
 from Global South countries and others who might otherwise be unable to at
 tend. (see below) \n Subsidised: if the cost of travelling to London or bu
 ying a standard ticket is a barrier\, this ticket is for you. Select this 
 ticket if you wish to apply for a travel bursary. (see below) \n Academic:
  if you are a paid member of university faculty\, please purchase an acade
 mic ticket. \n Corporate: if you represent a company\, please purchase a c
 orporate ticket for the Friday only or both Friday and Saturday \n \n
LAST-MODIFIED:20250909T141313
LOCATION:London\, UK
ORGANIZER:mailto:fixfest@therestartproject.org
SUMMARY:Fixfest 2025
URL;VALUE=URI:https://ti.to/the-restart-project/fixfest-2025
URL;VALUE=URI:https://ti.to/the-restart-project/fixfest-2025
END:VEVENT
BEGIN:VEVENT
DTSTAMP:20260420T141559Z
UID:dg6wMQ1086264
DTSTART;TZID=Europe/London:20250905T090000
DTEND;TZID=Europe/London:20250905T170000
CLASS:PUBLIC
CREATED:20250625T132212
DESCRIPTION:We will welcome keynote speakers and gather in larger sessions 
 and plenaries with plenty of space to meet people and network. We'll mostl
 y focus on some of the higher level questions around the key Fixfest topic
 s - see the additional information below.
LAST-MODIFIED:20250906T063731
LOCATION:Hackney Town Hall (Friday 5 Sep)\, Mare St\, London E8 1EA\, UK
ORGANIZER:mailto:fixfest@therestartproject.org
SUMMARY:[Fixfest 2025] Day 1: Friday 5 Sep\, Hackney Town Hall
URL;VALUE=URI:https://ti.to/the-restart-project/fixfest-2025
X-ALT-DESC;FMTTYPE=text/html:We will welcome keynote speakers and gather in
  larger sessions and plenaries with plenty of space to meet people and net
 work. We'll mostly focus on some of the higher level questions around the 
 key Fixfest topics - see the additional information below.
URL;VALUE=URI:https://ti.to/the-restart-project/fixfest-2025
END:VEVENT
BEGIN:VEVENT
DTSTAMP:20260420T141559Z
UID:dg6wMQ1086381
DTSTART;TZID=Europe/London:20250905T173000
DTEND;TZID=Europe/London:20250905T200000
CLASS:PUBLIC
CREATED:20250702T171553
DESCRIPTION:Open to all ticket holders. You will be asked during the ticket
  check-put process if you are able to attend.\n\nIf you are purchasing a t
 icket for Saturday only\, you will still have the option to attend the Fri
 day evening social event at Hackney Town Hall.
LAST-MODIFIED:20250904T115751
LOCATION:Hackney Town Hall (Friday 5 Sep)\, Mare St\, London E8 1EA\, UK
ORGANIZER:mailto:fixfest@therestartproject.org
SUMMARY:[Fixfest 2025] Friday night social
URL;VALUE=URI:https://ti.to/the-restart-project/fixfest-2025
X-ALT-DESC;FMTTYPE=text/html:Open to all ticket holders. You will be asked 
 during the ticket check-put process if you are able to attend.\n\nIf you a
 re purchasing a ticket for Saturday only\, you will still have the option 
 to attend the Friday evening social event at Hackney Town Hall.
URL;VALUE=URI:https://ti.to/the-restart-project/fixfest-2025
END:VEVENT
BEGIN:VEVENT
DTSTAMP:20260420T141559Z
UID:dg6wMQ1086380
DTSTART;TZID=Europe/London:20250906T090000
DTEND;TZID=Europe/London:20250906T170000
CLASS:PUBLIC
CREATED:20250702T171354
DESCRIPTION:We will mostly gather in a larger number of smaller sessions ad
 dressing some of the more practical and day-to-day questions related to th
 e key Fixfest topics. We'll also be hosting a public repair event for loca
 l residents.
LAST-MODIFIED:20250906T053845
LOCATION:The City Academy\, Hackney (Saturday 6 Sep)\, Homerton Row\, Londo
 n E9 6EA\, UK
ORGANIZER:mailto:fixfest@therestartproject.org
SUMMARY:[Fixfest 2025] Day 2: Saturday 6 Sep
URL;VALUE=URI:https://ti.to/the-restart-project/fixfest-2025
X-ALT-DESC;FMTTYPE=text/html:We will mostly gather in a larger number of sm
 aller sessions addressing some of the more practical and day-to-day questi
 ons related to the key Fixfest topics. We'll also be hosting a public repa
 ir event for local residents.
URL;VALUE=URI:https://ti.to/the-restart-project/fixfest-2025
END:VEVENT
END:VCALENDAR
