BEGIN:VCALENDAR
VERSION:2.0
PRODID:icalendar-ruby
CALSCALE:GREGORIAN
BEGIN:VEVENT
DTSTAMP:20260425T141944Z
UID:pKj27A
DTSTART:20250125T140000
DTEND:20250125T170000
CLASS:PUBLIC
CREATED:20241216T210949
DESCRIPTION: Panel discussion and workshop for members focused on building 
 a left wing alternative to FF/FG government. Speakers include Padraig Rice
  TD (Cork South-Central) and Cllr. Niamh O'Connor (Cork City South-Central
 ). Hosted by the Left Bank. \n
LAST-MODIFIED:20241220T172510
LOCATION:TBC
ORGANIZER:mailto:theleftbank@socialdemocrats.ie
SUMMARY:What Next? Building a Left Alternative (Cork)
URL;VALUE=URI:https://ti.to/the-left-bank/what-next-building-a-left-alterna
 tive-cork
URL;VALUE=URI:https://ti.to/the-left-bank/what-next-building-a-left-alterna
 tive-cork
END:VEVENT
END:VCALENDAR
