BEGIN:VCALENDAR
VERSION:2.0
PRODID:icalendar-ruby
CALSCALE:GREGORIAN
BEGIN:VEVENT
DTSTAMP:20260423T123037Z
UID:cyg2AQ
DTSTART:20250316T140000
DTEND:20250316T170000
CLASS:PUBLIC
CREATED:20250202T163612
DESCRIPTION: Writing the Uncanny Landscape\nIn a time of climate change and
  enclosure\; of the 'non-human' and the 'more-than-human'\, our relationsh
 ip to place is increasingly one defined by the uncanny. \n\n In this after
 noon workshop we'll begin explore ways of approaching 'landscape' as a top
 ic or element of your writing in this uncanny age. We'll discuss ideas bor
 rowed from philosophy\, art\, music and literature\, and create strategies
  for using uncanny landscapes as a means to intensify your work or simply 
 defeat writer's block - whether you work in fiction or nonfiction\; poetry
  or prose\; spoken word or written pages. And we'll do brief exercises to 
 begin teasing out these ideas before we even leave the room. \n\n The inti
 mate workshop includes a talk by the workshop leader on concepts of 'lands
 cape' and the uncanny in the arts and literature\; ideas include the 'more
 -than-human' landscape\, hauntology\, the uncanny picturesque and edgeland
 s. Strategies garnered from the work of contemporary artists\, philosopher
 s and others will help us explode our ideas of place into different imagin
 ings and language\, and we'll do exercises to tease out those ideas. Discu
 ssion\, readings and feedback will follow. \n\n Please bring a pen and a n
 otebook. (Laptop optional but please also bring a notebook.) There will be
  breaks for tea/coffee/wine and snacks from the Holloway bar. \n\n Worksho
 p leader Justin P. Hopper is a writer who explores the intersection of lan
 dscape\, memory and myth through a variety of media. This includes books (
 The Old Weird Albion (Penned in the Margins) and Obsolete Spells (Strange 
 Attractor))\; spoken-word albums (Chanctonbury Rings with Sharron Kraus\, 
 and The Path with The Belbury Poly (both Ghost Box Records))\; live perfor
 mances (The Great Satanic Swindle) and a podcast (Uncanny Landscapes\, int
 erviews with contemporary landscape practitioners). \n\n Sunday 16th March
  2025\n2-5pm \n\n limited spaces\, booking early is highly recommended. \n
LAST-MODIFIED:20250312T164927
LOCATION:The Holloway\, St. Lawrence Steps\, Norwich\, NR2 4PE
ORGANIZER:mailto:thehollowaynorwich@gmail.com
SUMMARY:Writing the Uncanny Landscape Workshop with Justin Hopper
URL;VALUE=URI:https://ti.to/the-holloway-norwich/writing-the-uncanny-landsc
 ape-workshop-with-justin-hopper
URL;VALUE=URI:https://ti.to/the-holloway-norwich/writing-the-uncanny-landsc
 ape-workshop-with-justin-hopper
END:VEVENT
END:VCALENDAR
