BEGIN:VCALENDAR
VERSION:2.0
PRODID:icalendar-ruby
CALSCALE:GREGORIAN
BEGIN:VEVENT
DTSTAMP:20260423T122930Z
UID:l7SNvQ
DTSTART:20250314T190000
DTEND:20250314T210000
CLASS:PUBLIC
CREATED:20250220T132631
DESCRIPTION: To Make People Happy is the new show by writer and theatre mak
 er John Osborne (Sky 1’s After Hours\, John Peel’s Shed) with poems fr
 om his new poetry collection\, published by Mariscat Press in January 2025
 .\nTo Make People Happy explores the humour section of second hand book sh
 ops\, jokes overheard on market stalls and finding the positives in life\,
  even if that means finding friendship with your end-of-life carers and sh
 aring a love of Chas and Dave with a taxi driver after the world’s least
  appealing wedding. \n\n John Osborne’s poems have been longlisted in th
 e Forward Prize\, published in The Big Issue\, Rialto and The Guardian and
  broadcast on BBC Radio 1\, Radio 3\, Radio 4\, 6Music\, Soho Radio and XF
 M. His sold out show Norwich: A Love Story appeared at the Playhouse in 20
 24. \n
LAST-MODIFIED:20250220T133613
LOCATION:The Holloway\, st. Lawrence Steps\, Norwich
ORGANIZER:mailto:thehollowaynorwich@gmail.com
SUMMARY:To Make People Happy - the new show by John Osborne
URL;VALUE=URI:https://ti.to/the-holloway-norwich/to-make-people-happy-the-n
 ew-show-by-john-osborne
URL;VALUE=URI:https://ti.to/the-holloway-norwich/to-make-people-happy-the-n
 ew-show-by-john-osborne
END:VEVENT
END:VCALENDAR
