BEGIN:VCALENDAR
VERSION:2.0
PRODID:icalendar-ruby
CALSCALE:GREGORIAN
BEGIN:VEVENT
DTSTAMP:20260423T122503Z
UID:UJ2I4Q
DTSTART:20250323T190000
DTEND:20250323T220000
CLASS:PUBLIC
CREATED:20250219T092945
DESCRIPTION: Live Drum &amp\; Bass / Ambient Electronic Performance\, two s
 ide-projects from members of Good Sad Happy Bad. \n\n Suitman Jungle is a 
 creation of percussionist Marc Pell (Good Sad Happy Bad\, Mount Kimbie\, T
 anita Tikaram). It’s a survival manual for those who live in a capitalis
 t society\, delivered via a jungle and drum &amp\; bass aesthetic\, utilis
 ing live drums\, voice and electronics. The live shows are mostly fun\, so
 metimes frustrating\, and always full of live drumming energy. You’ll da
 nce at the drops and giggle in the breakdowns\, as Suitman Jungle shows th
 e brighter side of life in a harsh\, grey\, concrete landscape. \n\n Begun
  as a busking show on the streets of L.A.’s Hollywood Boulevard\, the sh
 ow received Arts Council England funding to create theatre shows at The Ro
 undhouse and Canada Water Theatre (produced by nabokov\, directed by Sam B
 ailey). It went-on to tour Croatia’s Hospitality On The Beach (Hospital 
 Records)\, Germany’s Off The Radar and Fusion festivals\, France’s Alb
 i festival\, and UK dates supporting Goat Girl (Rough Trade). \n\n Suitman
  Jungle’s debut album ‘Liquid Lunch’ (Tape Club Records) was release
 d in 2019 but the project has dropped many other remixes\, singles and EPs
  since\, primarily via Bandcamp and Slow Dance Records. Suitman Jungle hos
 ted a 24-hour livestream fundraiser at the height of the UK's first lockdo
 wn to raise just under £1\,000 for London venue The Windmill. In 2024 he 
 ran an online livestream to direct funds to a fundraiser to repair Glasgow
  venue EXIT’s sound system\, where he wishes to perform in 2025. \n\n Us
 ing funds from Help Musicians\, sophomore album ‘5 Days to the Weekend
 ’ was released in 2024\, a collaborative project featuring Fran Lobo\, A
 ndrea Balency and Giles Kwakebass. \n\n https://open.spotify.com/artist/1w
 q4UUFpd7vv6EmBjDYvMH?si=tz-jjse3Q2-16o134lTQ9w \n\n CJ Calderwood is a mul
 ti disciplinary artist working across music\, and visual mediums.\nCJ’s 
 debut solo e.p 'Umbra Lumen Tonos’ (2024\, glint music) delves into expl
 orations of texture\, tone and destruction and shines a spot light on the 
 raw edges of the 7 tracks whilst remaining punctuated by windows of delica
 te\, heartfelt melody. \n\n Alongside their solo music they are also a mem
 ber of the band ‘Good Sad Happy Bad’ as well as the electronic duo ‘
 Lol K’. \n\n https://open.spotify.com/artist/44cMSZr1fGjQurzCzJ0Stb?si=k
 _fxvwn6TAyHgly5hX1gwQ \n
LAST-MODIFIED:20250227T215255
LOCATION:The Holloway\, Norwich
ORGANIZER:mailto:thehollowaynorwich@gmail.com
SUMMARY:Suitman Jungle + CJ Calderwood (Good Sad Happy Bad)
URL;VALUE=URI:https://ti.to/the-holloway-norwich/suitman-jungle-support
URL;VALUE=URI:https://ti.to/the-holloway-norwich/suitman-jungle-support
END:VEVENT
END:VCALENDAR
