BEGIN:VCALENDAR
VERSION:2.0
PRODID:icalendar-ruby
CALSCALE:GREGORIAN
BEGIN:VEVENT
DTSTAMP:20260423T122303Z
UID:Fg5ALw
DTSTART:20250321T190000
DTEND:20250321T230000
CLASS:PUBLIC
CREATED:20250120T210753
DESCRIPTION: Scanner (British artist Robin Rimbaud) traverses the experimen
 tal terrain between sound and space connecting a bewilderingly diverse arr
 ay of genres. Since 1991 he has been intensely active in sonic art\, produ
 cing concerts\, installations and recordings. He scored the hit musical co
 medy Kirikou &amp\; Karaba (2007)\, Philips Wake-Up Light (2009)\, The Big
  Dance in Trafalgar Square for 1000 dancers and the re-opening of the Sted
 elijk Museum\, Amsterdam in 2012. Committed to working with cutting edge p
 ractitioners he has collaborated with Bryan Ferry\, Wayne MacGregor\, Mike
  Kelley\, Michael Nyman\, Steve McQueen\, Laurie Anderson and Hussein Chal
 ayan. \n\n www.scannerdot.com \n\n Loula Yorke is a composer\, improviser 
 and live performer working primarily with a modular synthesiser. An Oram A
 ward Winner in 2020\, she has since released two albums to critical acclai
 m – Volta on Truxalis Records\, which was chosen as The Quietus’ Album
  of the Week\, and Speak\, thou vast and venerable head on quiet details\,
  which reached #41 in the UK Official Download Charts. \n\n Yorke’s late
 st project is a monthly mixtape that blends live performances on her modul
 ar synthesiser with field recordings and detailed audio descriptions\, whi
 ch has already picked up a dedicated following. Listen to Loula read the l
 iner notes here. \n\n 18+ \n
LAST-MODIFIED:20250320T131530
LOCATION:The Holloway\, St. Lawrence Steps\, Norwich\, NR2 4PE
ORGANIZER:mailto:thehollowaynorwich@gmail.com
SUMMARY:Scanner (Robin Rimbaud) + Loula Yorke
URL;VALUE=URI:https://ti.to/the-holloway-norwich/scanner-robin-rimbaud-supp
 ort
URL;VALUE=URI:https://ti.to/the-holloway-norwich/scanner-robin-rimbaud-supp
 ort
END:VEVENT
END:VCALENDAR
