BEGIN:VCALENDAR
VERSION:2.0
PRODID:icalendar-ruby
CALSCALE:GREGORIAN
BEGIN:VEVENT
DTSTAMP:20260423T122726Z
UID:9oUURw
DTSTART:20250315T190000
DTEND:20250315T220000
CLASS:PUBLIC
CREATED:20241206T142559
DESCRIPTION: THE FILING CABINET OF FEAR \n\n Author\, Richard Daniels\, pre
 sents an entertaining and occasionally terrifying journey\ninto an alterna
 te realm filled with strange conspiracies\, ghosts\, UFOs and more!\nTaken
  from the author’s case file series known as the Occultaria of Albion\, 
 Richard\nwill utilise audio and video to present a show full of potent and
  mysterious energy\,\ndescribed by some as ‘nonsense’ and by others as
  simply ‘weird’ \n\n Richard is joined by the musical mystic known as 
 Linoleum Department who will use\nsynthesizers to create a cone of power t
 hroughout the show. \n\n Together they are joined on stage by a cursed fil
 ing cabinet with a bad case of\nmould.\nThe Filing Cabinet of Fear is for 
 fans of public information films from the 1970s\,\ntelevision shows like U
 ncanny\, Inside Number 9 and anyone who thinks it’s only a\nmatter of ti
 me before they are abducted by aliens. \n\n “An occult spectacular in ev
 ery sense – original\, funny and unpredictable. I will never\nlook at of
 fice furniture the same again.”\nKate Cherrell \n\n Show suitable for 11
  years of age and upwards. \n\n The show starts at 7.00pm and the evening 
 will conclude by approx 9pm. There will\nbe a short intermission. \n\n Abo
 ut Linoleum Department\nLD creates electronic sounds - strange\, hypnotic 
 noises\, like a fever dream induced\nby a combination of the modern world 
 and gone-off corned beef. His recent EP was\nreviewed in Electronic Sounds
  Magazine and is available on Bandcamp at\nwww.linoleumdepartment.bandcamp
 .com \n
LAST-MODIFIED:20250315T132218
LOCATION:The Holloway\, St. Lawrence Steps\, Norwich\, NR2 4PE
ORGANIZER:mailto:thehollowaynorwich@gmail.com
SUMMARY:Occultaria of Albion Presents: The Filing Cabinet of Fear
URL;VALUE=URI:https://ti.to/the-holloway-norwich/occultaria-of-albion-prese
 nts-the-filing-cabinet-of-fear
URL;VALUE=URI:https://ti.to/the-holloway-norwich/occultaria-of-albion-prese
 nts-the-filing-cabinet-of-fear
END:VEVENT
END:VCALENDAR
