BEGIN:VCALENDAR
VERSION:2.0
PRODID:icalendar-ruby
CALSCALE:GREGORIAN
BEGIN:VEVENT
DTSTAMP:20260423T123114Z
UID:3rUORQ
DTSTART:20250322T190000
DTEND:20250322T220000
CLASS:PUBLIC
CREATED:20250219T091438
DESCRIPTION: House Arrest is a 5 piece Alternative Post-Punk band who celeb
 rate individuality and freedom of expression. Fuelled only by a desire to 
 bring people together and dance the pain away\, they are prepared to unloa
 d whatever you need when you need it.  \n\n “If Devo were the founding f
 athers of de-volution\, then House Arrest are the children of the de-volve
 d. Slathered in Vaseline and dipped in gravy\, a warped cacophony of fried
  synths\, slimy basslines\, warbled guitars and lyrics straight from the m
 ind of the mad. A band whose sonic presence lurks within the caliginous wa
 ters of post-punk wearing disco shoes and wrapping itself in no-wave sensi
 bilities. House Arrest don’t shy away from the grime and grit but instea
 d hoard it\, moulding it into bite-size chunks of infectious driven gutter
 -rock. With live shows that are a looser than spare change but musicianshi
 p that is tight and precise\, House Arrest have carved a chunk in the curr
 ent musical landscape and continue to dig deeper into unknown territory wh
 ilst simultaneously sporting familiar musical inflictions kin to the likes
  of The Gun Club\, Killing Joke and Pere Ubu.” Roy Pak Choy - Hot Face \
 n\n https://open.spotify.com/artist/4sUz4AM5mtWkNPwKSWclJa?si=JtoFb-c4RY2s
 b2FYtGKiSAhttps://open.spotify.com/artist/4sUz4AM5mtWkNPwKSWclJa?si=JtoFb-
 c4RY2sb2FYtGKiSA \n\n Strange Devotion are a London-based gang of dream pu
 nks with a knack for crafting melodic and lively anthems full of twists an
 d turns. Debut EP ‘A Demonstration Of Devotion’ comes out on cassette 
 March 21st via Margate label The World Has Fabulous Things.  \n\n https://
 open.spotify.com/artist/3xatkBuEmetoMeItd2Ngek?si=vvRDZyF7QYeKzJ6App-PvA \
 n\n Wazlo\; from the scattershot mind of Eli B. The kind of music you’d 
 get if you whizzed up Chuck Berry\, Elvis Presley and Brian Wilson in a Ge
 n Z smoothie maker. \n\n https://open.spotify.com/artist/6QtVDhxar6s6Z7KOK
 c54Iq?si=xjMj4oU1RxCXu_H6gKR0vQ \n
LAST-MODIFIED:20250221T163203
LOCATION:The Holloway\, St. Lawrence Steps\, Norwich\, NR2 4PE
ORGANIZER:mailto:thehollowaynorwich@gmail.com
SUMMARY:House Arrest + Strange Devotion + Wazlo
URL;VALUE=URI:https://ti.to/the-holloway-norwich/house-arrest-wazlo-support
URL;VALUE=URI:https://ti.to/the-holloway-norwich/house-arrest-wazlo-support
END:VEVENT
END:VCALENDAR
