BEGIN:VCALENDAR
VERSION:2.0
PRODID:icalendar-ruby
CALSCALE:GREGORIAN
BEGIN:VTIMEZONE
TZID:Europe/Dublin
BEGIN:DAYLIGHT
DTSTART:20241027T010000
TZOFFSETFROM:+0100
TZOFFSETTO:+0000
RRULE:FREQ=YEARLY;BYDAY=-1SU;BYMONTH=10
TZNAME:GMT
END:DAYLIGHT
BEGIN:STANDARD
DTSTART:20240331T020000
TZOFFSETFROM:+0000
TZOFFSETTO:+0100
RRULE:FREQ=YEARLY;BYDAY=-1SU;BYMONTH=3
TZNAME:IST
END:STANDARD
END:VTIMEZONE
BEGIN:VEVENT
DTSTAMP:20260422T133235Z
UID:7aLnOw
DTSTART;TZID=Europe/Dublin:20241003T103000
DTEND;TZID=Europe/Dublin:20241003T140000
CLASS:PUBLIC
CREATED:20240822T091035
DESCRIPTION: The Dublin Leadership Summit Returns for 2024! \n\n After the 
 resounding success of previous years\, we're excited to announce the much-
 anticipated return of the Dublin Leadership Summit\, proudly hosted by AAB
  and The Dublin Network. \n\n This year\, we've secured an esteemed panel 
 of renowned Irish leaders in business and sport. Each is a recognised auth
 ority on leadership\, ready to share their practical experiences and leave
  you invigorated with insights that inspire\, influence\, and drive transf
 ormation. \n\n "Leadership\, when mastered\, is the catalyst for unprecede
 nted success and innovation." \n\n Register your place. Mark your calendar
 s. This is an event you do not want to miss. \n\n Time: 10.30am – 2pm \n
 Commences with registration &amp\; refreshments. Concludes with a light ne
 tworking lunch \n\n REGISTER TODAY TO SECURE YOUR PLACE with small charity
  donation ( Options: €10 / €20 / €30 ) \n
LAST-MODIFIED:20250728T165320
LOCATION:Leopardstown Racecourse\, Dublin 18
ORGANIZER:mailto:colin@thedublinnetwork.com
SUMMARY:The Dublin Leadership Summit 2024
URL;VALUE=URI:https://ti.to/the-dublin-network/leadership-summit-2024
URL;VALUE=URI:https://ti.to/the-dublin-network/leadership-summit-2024
END:VEVENT
END:VCALENDAR
