BEGIN:VCALENDAR
VERSION:2.0
PRODID:icalendar-ruby
CALSCALE:GREGORIAN
BEGIN:VTIMEZONE
TZID:America/New_York
BEGIN:DAYLIGHT
DTSTART:20240310T030000
TZOFFSETFROM:-0500
TZOFFSETTO:-0400
RRULE:FREQ=YEARLY;BYDAY=2SU;BYMONTH=3
TZNAME:EDT
END:DAYLIGHT
BEGIN:STANDARD
DTSTART:20241103T010000
TZOFFSETFROM:-0400
TZOFFSETTO:-0500
RRULE:FREQ=YEARLY;BYDAY=1SU;BYMONTH=11
TZNAME:EST
END:STANDARD
END:VTIMEZONE
BEGIN:VEVENT
DTSTAMP:20260422T164515Z
UID:Ry8Xyg
DTSTART;VALUE=DATE:20241017
DTEND;VALUE=DATE:20241018
CLASS:PUBLIC
CREATED:20231023T201307
DESCRIPTION: Momentum brings software developers together to sharpen their 
 skills\, make connections\, and geek out with impunity. After you've enjoy
 ed our riveting presentations\, we encourage you to visit the Banks\, expl
 ore our microbreweries\, or throw axes with friends. Momentum is more than
  a Cincinnati conference\, it's a catapult to a career. \n
LAST-MODIFIED:20250714T125032
LOCATION:Cincinnati\, Ohio
ORGANIZER:mailto:tickets@momentumdevcon.com
SUMMARY:Momentum 2024
URL;VALUE=URI:https://ti.to/the-circuit/momentum-2024
URL;VALUE=URI:https://ti.to/the-circuit/momentum-2024
END:VEVENT
BEGIN:VEVENT
DTSTAMP:20260422T164515Z
UID:Ry8Xyg1064009
DTSTART;TZID=America/New_York:20241017T080000
DTEND;TZID=America/New_York:20241017T170000
CLASS:PUBLIC
CREATED:20231023T201311
LAST-MODIFIED:20241017T082706
LOCATION:Hard Rock Casino Cincinnati\, 1000 Broadway St\, Cincinnati\, OH 4
 5202\, USA
ORGANIZER:mailto:tickets@momentumdevcon.com
SUMMARY:[Momentum 2024] Momentum 2024
URL;VALUE=URI:https://ti.to/the-circuit/momentum-2024
URL;VALUE=URI:https://ti.to/the-circuit/momentum-2024
END:VEVENT
END:VCALENDAR
