BEGIN:VCALENDAR
VERSION:2.0
PRODID:icalendar-ruby
CALSCALE:GREGORIAN
BEGIN:VEVENT
DTSTAMP:20260420T013731Z
UID:5d6mdg
DTSTART;VALUE=DATE:20191107
DTEND;VALUE=DATE:20191109
CLASS:PUBLIC
CREATED:20190420T175222
DESCRIPTION: The Big Elixir is a two-day\, single track conference to help 
 developers take their Elixir skills to the next level. Join us on November
  7th and 8th in the heart of The Big Easy as fellow Elixir enthusiasts com
 e together to teach\, learn\, and explore all things Elixir! \n
LAST-MODIFIED:20191106T175147
LOCATION:New Orleans\, LA
ORGANIZER:mailto:conference@thebigelixir.com
SUMMARY:The Big Elixir 2019
URL;VALUE=URI:https://ti.to/the-big-elixir/the-big-elixir-2019
URL;VALUE=URI:https://ti.to/the-big-elixir/the-big-elixir-2019
END:VEVENT
END:VCALENDAR
