BEGIN:VCALENDAR
VERSION:2.0
PRODID:icalendar-ruby
CALSCALE:GREGORIAN
BEGIN:VEVENT
DTSTAMP:20260423T154825Z
UID:oukz1Q
DTSTART;VALUE=DATE:20160428
DTEND;VALUE=DATE:20160428
CLASS:PUBLIC
CREATED:20160404T130422
DESCRIPTION: This interactive one-day workshop provides the perfect opportu
 nity for attendees to increase their knowledge of the AA Rosette Award sch
 eme and improve their understanding of the criteria by which the AA assess
 es food quality. \n\n Use coupon code GROUP10 to get 10% off your tickets 
 when purchasing 2 or more tickets in the same transaction \n
LAST-MODIFIED:20160923T104445
LOCATION:Castleknock Hotel & Country Club\, Dublin 15
ORGANIZER:mailto:hewsonc@theaa.ie
SUMMARY:AA Rosette Academy Workshop 2016
URL;VALUE=URI:https://ti.to/the-aa-ireland/rosette-academy-workshop-2016
URL;VALUE=URI:https://ti.to/the-aa-ireland/rosette-academy-workshop-2016
END:VEVENT
END:VCALENDAR
