BEGIN:VCALENDAR
VERSION:2.0
PRODID:icalendar-ruby
CALSCALE:GREGORIAN
BEGIN:VEVENT
DTSTAMP:20260426T021752Z
UID:QjNq8w
DTSTART;VALUE=DATE:20231003
DTEND;VALUE=DATE:20231004
CLASS:PUBLIC
CREATED:20230418T102608
DESCRIPTION: With many racing circuits in the UK banning or being quite rel
 uctant to allow electric vehicles to attend\, we believe it's important to
  show there is a market for EVs on tracks and showcase how incredibly fun 
 EVs can be on a track. So whether you're a complete track novice or have a
  race licence\, we want as many electric vehicle owners to book on to this
  EV-only track day on October 3rd at Castle Combe to prove to the naysayer
 s that EVs have a place in UK Motorsport. \n\n We will have exclusivity of
  the track\, and only 12 cars will be on track at any time\, so it's begin
 ner friendly. Personal instruction is available. Nearby rapid chargers and
  superchargers are available. The event is open to both Tesla owners and a
 ll Electric Vehicles owners (no combustion engine). \n\n Learn more and bo
 ok your tickets below to secure your place in UK Motorsport History. \n\n 
 Location: Castle Combe Circuit\, Wiltshire (Near Bristol) \n\n Date: Tuesd
 ay\, October 3rd\, 2023 \n\n Times: Driver briefing 8.30am. Track open 9am
 -12.30pm and 1.30pm-5pm. Open pit lane. \n\n Cost: Tickets are £150 per d
 river (including VAT) and £30 (inc VAT) for additional drivers\, we will 
 not make a profit on this event\, the aim is to cover costs. \n\n Organise
 r: Dave Broadway with support from Tesla Owners UK (not-for-profit club). 
 \n\n Insurance / Liability: Motorsport is dangerous\, but if you follow th
 e instructions of the circuit organisers and you're sensible\, it's fairly
  safe\; however\, your insurance policy likely will not cover you for any 
 track driving so by buying a ticket you understand you do this at your own
  risk. There is no requirement to be insured when on a track\, however\, t
 rack-day insurance might be available to you via a 3rd party. By buying a 
 ticket you understand you cannot hold Tesla Owners UK Limited or Dave Broa
 dway (organiser) liable for any damages or additional costs incurred to yo
 u\, your vehicle or any third party. All drivers will need to complete an 
 indemnity form on the day. You will need a driving licence. \n\n Charging:
  The session is long but it will depend on how many laps you do to what St
 ate of Charge you arrive with or whether you go off and charge midway thro
 ugh the day. We would suggest arriving with at least 70% (if not more) for
  optimal performance. There are no on-site chargers available\, however\, 
 plenty of high-powered rapid chargers nearby (nearest is 8 miles away). \n
 \n \n 16 x Tesla Superchargers (up to 250kW) Leigh Delamere - Westbound Se
 rvices M4 \n 7 x CCS (up to 350kW) Leigh Delamere Westbound Services M4 \n
  1 x CCS (up to 60kW) - Leigh Delamere Eastbound Services M4 \n 6 x CCS/CH
 AdeMO (up to 150kW) MFG EV-Power - BP Stanton St Quintin \n 6 x Ionity (up
  to 350kW) Chippenham Pit Stop \n 2 x Instavolt (up to 120kW) McDonald’s
  Chippenham \n and more charging options further afield \n \n\n Do I need 
 a helmet or any other protective gear? You will need a helmet\, these are 
 available fairly inexpensively (e.g. https://www.ebay.co.uk/itm/3640588253
 85 or https://www.ebay.co.uk/itm/143464582418)\, you can also rent helmets
  from the circuit (please contact the Circuit directly) &amp\;/or it might
  be possible to share helmets with a friend/others attending. You will als
 o need to wear long sleeve t-shirt/top\, trousers and suitable footwear (e
 .g. trainers/closed-toe shoes). \n\n Can I fix a Go-Pro / Action camera to
  my car? Please check with instructors on the day \n\n Will I ruin my tyre
 s? You should ensure your tyres are properly inflated and you check your p
 ressures throughout the day but as long as you don't drive too aggressivel
 y your tyres should be OK. If you're unsure speak with the instructors/sta
 ff. \n\n Food &amp\; Drink - The cafe will be open for breakfast and lunch
 . \n\n Passengers? You can carry one helmeted passenger.\nSpectators? Yes 
 no problem and free (although we would ask them to snap some photos and ta
 g TeslaOwnersUK or send to the organisers if possible). \n\n I need to can
 cel - No refunds can be given if you fail to attend or cancel within 2 wee
 ks of the event. We should be able to swap names though if you wanted to s
 ell your ticket to someone else\, please edit your ticket directly or fail
 ing that contact events@teslaowners.org.uk \n\n **DISCLAIMER: YOU DO THIS 
 AT YOUR OWN RISK TO YOU AND YOUR CAR - TESLA OWNERS UK LIMITED &amp\; DAVE
  BROADWAY CANNOT BE HELD RESPONSIBLE FOR ANY DAMAGE OR INJURY. MOTORSPORT 
 IS DANGEROUS. ** \n
LAST-MODIFIED:20260202T151932
LOCATION:Castle Combe (Near Bristol)
ORGANIZER:mailto:will@teslaowners.org.uk
SUMMARY:EV only Track Day @ Castle Combe
URL;VALUE=URI:https://ti.to/teslaownersuk/ev-only-track-day-castle-combe
URL;VALUE=URI:https://ti.to/teslaownersuk/ev-only-track-day-castle-combe
END:VEVENT
END:VCALENDAR
