BEGIN:VCALENDAR
VERSION:2.0
PRODID:icalendar-ruby
CALSCALE:GREGORIAN
BEGIN:VTIMEZONE
TZID:Europe/London
BEGIN:DAYLIGHT
DTSTART:20220327T020000
TZOFFSETFROM:+0000
TZOFFSETTO:+0100
RRULE:FREQ=YEARLY;BYDAY=-1SU;BYMONTH=3
TZNAME:BST
END:DAYLIGHT
BEGIN:STANDARD
DTSTART:20211031T010000
TZOFFSETFROM:+0100
TZOFFSETTO:+0000
RRULE:FREQ=YEARLY;BYDAY=-1SU;BYMONTH=10
TZNAME:GMT
END:STANDARD
END:VTIMEZONE
BEGIN:VEVENT
DTSTAMP:20260420T040915Z
UID:x36Hhw
DTSTART;VALUE=DATE:20211111
DTEND;VALUE=DATE:20211113
CLASS:PUBLIC
CREATED:20210628T154845
DESCRIPTION: TecXposition\, Africa's premier tech event\, is back again in 
 full full force in 2021.  \n\n TecXposition delivers what Africa has been 
 waiting for\, the opportunity to view technology from a global lens\, with
  local outcomes. \n\n TecXposition will take a multi-faceted approach to t
 echnology\, exploring several domains and demystifying tech with a view to
  improving profitability and enhancing everyday living. \n
LAST-MODIFIED:20211112T145234
LOCATION:Virtual
ORGANIZER:mailto:info@tecxposition.com
SUMMARY:TecXposition 2021
URL;VALUE=URI:https://ti.to/tecxposition/tecxposition-2021
URL;VALUE=URI:https://ti.to/tecxposition/tecxposition-2021
END:VEVENT
END:VCALENDAR
