BEGIN:VCALENDAR
VERSION:2.0
PRODID:icalendar-ruby
CALSCALE:GREGORIAN
BEGIN:VTIMEZONE
TZID:America/New_York
BEGIN:DAYLIGHT
DTSTART:20240310T030000
TZOFFSETFROM:-0500
TZOFFSETTO:-0400
RRULE:FREQ=YEARLY;BYDAY=2SU;BYMONTH=3
TZNAME:EDT
END:DAYLIGHT
BEGIN:STANDARD
DTSTART:20241103T010000
TZOFFSETFROM:-0400
TZOFFSETTO:-0500
RRULE:FREQ=YEARLY;BYDAY=1SU;BYMONTH=11
TZNAME:EST
END:STANDARD
END:VTIMEZONE
BEGIN:VEVENT
DTSTAMP:20260419T144050Z
UID:3pFvLw
DTSTART;TZID=America/New_York:20241003T180000
DTEND;TZID=America/New_York:20241003T210000
CLASS:PUBLIC
CREATED:20240914T193127
DESCRIPTION: WHERE: OneEleven on the 4th Floor\, 325 Front St. W\, Toronto\
 , ON\nWHEN: October 3rd\, 2024 from 6PM - 9PM ET (Doors open at 6PM) \n\n 
 TechTO is in partnership with Calgary Economic Development! \n\n ‍Calgar
 y is Calling! Come and meet the fintech leaders hiring in North America's 
 Most Livable City! \n\n ‍ \n\n ‍Think Calgary is all cowboys and oil? 
 Calgary is one of the top fintech hubs in North America. More Canadians ar
 e moving to Alberta than any other province in the country. With a high qu
 ality of life and an affordable cost of living\, the city boasts the faste
 st growing tech talent market in North America.\n‍ \n\n  \nCalgary is ho
 me to a growing number of Canadian fintech unicorns\, including Neo Financ
 ial\, One Vest and Shareworks by Morgan Stanley\, emerging soonicorns like
  Zayzoon\, NDAX and Helcim\, plus is ranked one of the Top 20 fastest grow
 ing startup hubs in the world! Come and meet some of the city’s fintech 
 leaders and innovators and learn more about the limitless possibilities in
  the Blue Sky City.\n‍ \n\n  \nJoin us for a candid dialogue about what 
 is driving the momentum in Calgary’s tech and innovation ecosystem. Hear
  industry leaders bust myths about Calgary’s diversity\, economy\, dive 
 into opportunities and challenges that lay ahead and learn how you can be 
 part of it a growing tech industry that shows no signs of slowing down. \n
 \n  \nFor more information and speaker announcement\, please visit here \n
LAST-MODIFIED:20250430T084033
LOCATION:OneEleven\, 325 Front St W\, Toronto\, ON M5V 2Y1
ORGANIZER:mailto:info@techtoronto.org
SUMMARY:TechTO x Calgary EcDev: Meet Fintech Leaders Hiring in Calgary | Oc
 tober 3rd\, 2024
URL;VALUE=URI:https://ti.to/techtoronto/techtoxcalgaryecdev-oct-03-2024
URL;VALUE=URI:https://ti.to/techtoronto/techtoxcalgaryecdev-oct-03-2024
END:VEVENT
BEGIN:VEVENT
DTSTAMP:20260419T144050Z
UID:3pFvLw1075055
DTSTART;TZID=America/New_York:20241003T180000
DTEND;TZID=America/New_York:20241003T210000
CLASS:PUBLIC
CREATED:20240914T193128
DESCRIPTION:6:00 pm — <span class="colour" style="color:rgb(0\, 0\, 0)">D
 oors open and networking</span>\n\n7:00 pm — Community open mic and pane
 l\n\n8:15 pm — Continued networking\n\n9:00 pm —End of event
LAST-MODIFIED:20240917T001654
LOCATION:OneEleven\, 325 Front St W\, Toronto\, ON M5V 2Y1\, Canada
ORGANIZER:mailto:info@techtoronto.org
SUMMARY:[TechTO x Calgary EcDev: Meet Fintech Leaders Hiring in Calgary | O
 ctober 3rd\, 2024] TechTO x Calgary EcDev: Meet Fintech Leaders Hiring in 
 Calgary | October 3rd\, 2024
URL;VALUE=URI:https://ti.to/techtoronto/techtoxcalgaryecdev-oct-03-2024
X-ALT-DESC;FMTTYPE=text/html:6:00 pm — <span class="colour" style="color:
 rgb(0\, 0\, 0)">Doors open and networking</span>\n\n7:00 pm — Community 
 open mic and panel\n\n8:15 pm — Continued networking\n\n9:00 pm —End o
 f event
URL;VALUE=URI:https://ti.to/techtoronto/techtoxcalgaryecdev-oct-03-2024
END:VEVENT
END:VCALENDAR
