BEGIN:VCALENDAR
VERSION:2.0
PRODID:icalendar-ruby
CALSCALE:GREGORIAN
BEGIN:VTIMEZONE
TZID:America/Los_Angeles
BEGIN:DAYLIGHT
DTSTART:20240310T030000
TZOFFSETFROM:-0800
TZOFFSETTO:-0700
RRULE:FREQ=YEARLY;BYDAY=2SU;BYMONTH=3
TZNAME:PDT
END:DAYLIGHT
BEGIN:STANDARD
DTSTART:20241103T010000
TZOFFSETFROM:-0700
TZOFFSETTO:-0800
RRULE:FREQ=YEARLY;BYDAY=1SU;BYMONTH=11
TZNAME:PST
END:STANDARD
END:VTIMEZONE
BEGIN:VEVENT
DTSTAMP:20260420T052942Z
UID:nDToTA
DTSTART;TZID=America/Los_Angeles:20241024T180000
DTEND;TZID=America/Los_Angeles:20241024T210000
CLASS:PUBLIC
CREATED:20240822T111914
DESCRIPTION: WHERE: Flex Space (5th floor) at TELUS Building\, 510 W Georgi
 a St\, Vancouver\, BC V6B 0M3\, Canada \n\n WHEN: October 24th\, 2024 from
  6PM - 9PM PST (Doors open at 6PM) \n\n  \nTechTO features in-depth conver
 sations with technology leaders\, innovators\, and entrepreneurs. Our Tech
 TO: Together series gives access to exclusive venues\, speakers\, food\, a
 nd more! \n\n  \nSuccess is not linear. Even the most dynamic leaders expe
 rience challenges and setbacks. However\, in those experiences\, there are
  many lessons and opportunities to redefine our strategies and TechTO show
 cases the complexities that make the journey all of what it is. \n\n  \nTe
 chTO is curated to bring you inspirational stories where you can learn pra
 ctical tips from leaders who have dreamed\, struggled\, and ultimately per
 severed. Our conversation with our guests typically reviews their career j
 ourney\, the early days of their company\, lessons from scaling\, and a fe
 w fun personal questions. \n\n  \nPlease visit the event website for speak
 ers announcement: Here \n
LAST-MODIFIED:20250430T054033
LOCATION:Flex Space (5th floor) at TELUS Building\, 510 W Georgia St\, Vanc
 ouver\, BC V6B 0M3\, Canada
ORGANIZER:mailto:info@techtoronto.org
SUMMARY:TechTO: Together Vancouver | Oct 24 2024
URL;VALUE=URI:https://ti.to/techtoronto/techtovan-oct-24-2024
URL;VALUE=URI:https://ti.to/techtoronto/techtovan-oct-24-2024
END:VEVENT
BEGIN:VEVENT
DTSTAMP:20260420T052942Z
UID:nDToTA1074351
DTSTART;TZID=America/Los_Angeles:20241024T180000
DTEND;TZID=America/Los_Angeles:20241024T210000
CLASS:PUBLIC
CREATED:20240822T111916
DESCRIPTION:6:00 pm — Doors open and networking\n\n7:00 pm — Community 
 open mic\, speaker presentations\, & Fireside chat\n\n8:30 pm — Continue
 d networking\n\n9:00 pm — End of the event
LAST-MODIFIED:20240822T113948
LOCATION:Flex Space (5th floor) at Telus Building\, 510 W Georgia St\, Vanc
 ouver\, BC V6B 0M3\, Canada
ORGANIZER:mailto:info@techtoronto.org
SUMMARY:[TechTO: Together Vancouver | Oct 24 2024] TechTOgether Vancouver O
 ct 24
URL;VALUE=URI:https://ti.to/techtoronto/techtovan-oct-24-2024
X-ALT-DESC;FMTTYPE=text/html:6:00 pm — Doors open and networking\n\n7:00 
 pm — Community open mic\, speaker presentations\, & Fireside chat\n\n8:3
 0 pm — Continued networking\n\n9:00 pm — End of the event
URL;VALUE=URI:https://ti.to/techtoronto/techtovan-oct-24-2024
END:VEVENT
END:VCALENDAR
